Workbook

Sheet Questions
A1: Number | B1: Question | C1: Answer | D1: Topic | E1: Spec Ref | H1: Students have studied up to question: | I1: 138
A2: 1 | B2: Define atom | C2: The smallest part of an element that can still be recognised as that element | D2: Chemistry fundamentals | H2: Start question of current topic: | I2: 139
A3: 2 | B3: Define element | C3: A substance made of only one type of atom | D3: Chemistry fundamentals | H3: End question of current topic: | I3: 154
A4: 3 | B4: Define compound | C4: A substance made of two or more different atoms chemically bonded together | D4: Chemistry fundamentals
A5: 4 | B5: Define molecule | C5: A substance made of more than one atom chemically bonded together (can be atoms of the same type!) | D5: Chemistry fundamentals
A6: 5 | B6: What is the formula of the hydroxide ion? | C6: OH- | D6: Chemistry fundamentals
A7: 6 | B7: What is the formula of the sulphate ion? | C7: SO42- | D7: Chemistry fundamentals
A8: 7 | B8: What is the formula of the nitrate ion? | C8: NO3- | D8: Chemistry fundamentals
A9: 8 | B9: What is the formula of the group 1 metal ions? | C9: Li+, Na+, K+ | D9: Chemistry fundamentals
A10: 9 | B10: What is the formula of the group 2 metal ions? | C10: Be2+, Mg2+, Ca2+ | D10: Chemistry fundamentals
A11: 10 | B11: What is the formula of the oxide ion? | C11: O2- | D11: Chemistry fundamentals
A12: 11 | B12: What is the formula of the ammonium ion? | C12: NH4+ | D12: Chemistry fundamentals
A13: 12 | B13: What does this hazard symbol indicate? | C13: Corrosive | D13: Chemistry fundamentals
A14: 13 | B14: What does this hazard symbol indicate? | C14: Environmental hazard | D14: Chemistry fundamentals
A15: 14 | B15: What does this hazard symbol indicate? | C15: Toxic | D15: Chemistry fundamentals
... A84: 83 | B84: What is the name given to the structure of diamond, graphite and silicon dioxide? | C84: Giant covalent | D84: Topic 1 Bonding
A85: 84 | B85: How many bonds does each carbon have in diamond? | C85: 4 | D85: Topic 1 Bonding
A86: 85 | B86: Explain why diamond has a high melting point | C86: Giant structure, Strong covalent bonds between the atoms, requires a lot of energy to break | D86: Topic 1 Bonding
A87: 86 | B87: Explain why most giant covalent substances do not conduct electricity (3 marks) | C87: There are no electrons/ions/charged particles that are free to move | D87: Topic 1 Bonding
A88: 87 | B88: Explain why graphite conducts electricity | C88: Has delocalised electrons between the layers that can move through the graphite | D88: Topic 1 Bonding
A89: 88 | B89: Explain why graphite can act as a lubricant | C89: Weak forces between layers which are free to slide over each other | D89: Topic 1 Bonding
A90: 89 | B90: What is graphene? | C90: One layer of graphite | D90: Topic 1 Bonding
A91: 90 | B91: What is a fullerene? | C91: Substance made of carbon atoms arranged in a cage | D91: Topic 1 Bonding
A92: 91 | B92: What type of substance are methane and water? | C92: Simple molecular (or simple molecules) | D92: Topic 1 Bonding
A93: 92 | B93: What is a molecule? | C93: A group of atoms chemically bonded together | D93: Topic 1 Bonding
A94: 93 | B94: Describe the structure of simple covalent molecules | C94: Strong covalent bonds between atoms, weak forces holding the molecules together | D94: Topic 1 Bonding
A95: 94 | B95: What are intermolecular forces? | C95: Weak forces between molecules which hold them together | D95: Topic 1 Bonding
A96: 95 | B96: Explain why methane has a low melting point | C96: It is a simple molecular substance with weak forces between the molecules (which are easy to break) | D96: Topic 1 Bonding
A97: 96 | B97: What is a polymer? | C97: Millions of small molecules joined together in a chain to form a large molecule | D97: Topic 1 Bonding
... A140: 139 | B140: Describe how the particles change in arrangement when a liquid turns into a gas | C140: Forces strengthen, particles move close together in ordered rows | D140: Topic 2 States of Matter
A141: 140 | D141: Topic 2 States of Matter
A142: 141 | B142: What is chromatography? | C142: A process to separate the constituents of a mixture | D142: Topic 2 Separation techniques
A143: 142 | B143: In paper chromatography, what is the stationary phase and what is the mobile phase | C143: Paper is stationary, solvent (usually water or ethanol) is mobile | D143: Topic 2 Separation techniques
A144: 143 | B144: How can chromatography show the difference between pure and impure substances? | C144: Pure ones will not separate into a number of spots | D144: Topic 2 Separation techniques
A145: 144 | B145: How is the Rf value calculated? | C145: distance moved by spot/distance moved by solvent | D145: Topic 2 Separation techniques
A146: 145 | B146: What does a substance's Rf value depend on? | C146: How soluble it is in the solvent | D146: Topic 2 Separation techniques
A147: 146 | B147: In chromatography, why must the substances be placed on a pencil line? | C147: Pencil will not dissolve in the solvent | D147: Topic 2 Separation techniques
A148: 147 | B148: In chromatography why must the solvent height be lower than the pencil line? | C148: So that the substances do not dissolve into the solvent off the paper | D148: Topic 2 Separation techniques
A149: 148 | B149: How is the melting point of a pure substance different from that of an impure substance? | C149: Pure substance has one specific melting point. Impure substance has a melting range. | D149: Topic 2 Separation techniques
A150: 149 | B150: What is simple distillation used to separate? | C150: A liquid from a solid | D150: Topic 2 Separation techniques
A151: 150 | B151: What is fractional distillation used to separate? | C151: Two liquids with different boiling points. | D151: Topic 2 Separation techniques
A152: 151 | B152: What is filtration used to separate? | C152: An insoluble solid from a liquid | D152: Topic 2 Separation techniques
A153: 152 | B153: What is crystallisation? | C153: Forming crystals of a soluble solid from a solution. | D153: Topic 2 Separation techniques
... A338: 337 | B338: Is making bonds endothermic or exothermic? | C338: Exothermic. Energy is released when chemical bonds are formed (like how two magnets move together when close and generate kinetic energy) | D338: Topic 7 energy in Reactions
A339: 338 | B339: How do we work out the overall energy change of a reaction? | C339: Work out the difference between the energy needed to break all the bonds in the reactants and the energy released to form all the bonds in the products.
A340: 339 | B340: If more heat energy is released forming bonds than is required for breaking bonds in a reaction what kind of reaction is it? | C340: exothermic
A341: 340 | B341: If less heat energy is released forming bonds than is required for breaking bonds in a reaction what kind of reaction is it? | C341: endothermic
A342: 341 | B342: What is crude oil? | C342: A mixture of hydrocarbons | D342: Topic 8 Fuels
A343: 342 | B343: What is crude oil formed from? | C343: The remains of ancient biomass (mostly plankton) that was buried in mud | D343: Topic 8 Fuels
A344: 343 | B344: What is a finite resource? Why is crude oil a finite resource? | C344: One that will run out. Because it takes longer to form than the rate at which we are using it up | D344: Topic 8 Fuels
A345: 344 | B345: What is a hydrocarbon? | C345: A compound made of atoms of carbon and hydrogen only | D345: Topic 8 Fuels
A346: 345 | B346: What is an alkane? | C346: A hydrocarbon with only single bonds | D346: Topic 8 Fuels
A347: 346 | B347: Name the first four alkanes | C347: Methane, ethane, propane, butane | D347: Topic 8 Fuels
A348: 347 | B348: What is the general formula for alkanes? | C348: CnH2n+2 (the n and 2n are small) | D348: Topic 8 Fuels
A349: 348 | B349: How does boiling point change with the length of an alkane? | C349: The longer the alkane, the higher its boiling point | D349: Topic 8 Fuels
A350: 349 | B350: How does viscosity change with the length of an alkane? | C350: The longer the alkane, the more viscous (the thicker) it is | D350: Topic 8 Fuels
A351: 350 | B351: How does flammability change with the length of an alkane? | C351: The longer the alkane, the less flammable it is | D351: Topic 8 Fuels
A352: 351 | B352: What is fractional distillation? | C352: A process used to separate mixtures of substances with different boiling points | D352: Topic 8 Fuels
A353: 352 | B353: What are the steps involved in fractional distillation? | C353: Crude oil is vaporised, different molecules rise up the fractionating column and cool down. Condense at different points on the column. | D353: Topic 8 Fuels
... A378: 377 | B378: How are members of a homologous series different from each other? | C378: Their chain length differs by a number of CH2 | D378: Topic 8 Fuels
A379: 378 | B379: Where do petrol, kerosene and diesel oil come from? | C379: They are obtained by fractional distillation of crude oil
A380: 379 | B380: Where does methane come from? | C380: It is found in natural gas?
A381: 380 | B381: Are petrol, kerosene, diesel and methane renewable or non renewable? | C381: non-renewable
A382: 381 | B382: How can oxygen be tested for? | C382: Relights a glowing splint | D382: Topic 8 atmosphere
A383: 382 | B383: What gases made up the Earths initial atmosphere | C383: Large amount of carbon dioxide, water vapour, small amounts of other gases | D383: Topic 8 atmosphere
A384: 383 | B384: What happened to the water vapour as the earth cooled? | C384: Water vapour condensed forming oceans | D384: Topic 8 atmosphere
A385: 384 | B385: What affect did the formation of the oceans have on the amount of carbon dioxide in the atmosphere? | C385: Carbon dioxide dissolves in water so some dissolved and the amount in the atmosphere decreased | D385: Topic 8 atmosphere
A386: 385 | B386: How did the growth of primitive plant affect the atmosphere? | C386: They used carbon dioxide and released oxygen in photosynthesis | D386: Topic 8 atmosphere
A387: 386 | B387: What is the composition of our atmosphere today? | C387: Nitrogen about 78%, Oxygen 21%, 1% other gases | D387: Topic 8 atmosphere
A388: 387 | B388: Name 3 greenhouse gases | C388: Carbon dioxide, methane and water vapour | D388: Topic 8 atmosphere
A389: 388 | B389: What is the greenhouse effect | C389: Greenhouse gases absorb heat radiated from the earth and release it keeping the earth warm | D389: Topic 8 atmosphere
A390: 389 | B390: Name 2 effects of global warming | C390: Polar ice caps melting, sea levels rising | D390: Topic 8 atmosphere
A391: 390 | B391: Where did the gases that fomed our early atmosphere come from? | C391: They were produced by volcanic activity. | D391: Topic 8 atmosphere
A392: 391 | B392: What gas, in today's atmosphere was missing from our early atmosphere? | C392: oxygen | D392: Topic 8 atmosphere
A393: 392 | B393: What does correlation mean? | C393: There is a link between them. (eg. As one increases so does the other) | D393: Topic 8 atmosphere
... A400: 399 | B400: If a sample of the atmosphere is reaccted with copper, what gas will react? | C400: Oxygen | D400: Topic 8 atmosphere
A401: 400 | B401: If all the oxygen is removed from a sample of the atmosphere how much is removed? | C401: 0.21 | D401: Topic 8 atmosphere
A402: 401 | B402: What is an alloy? | C402: A mixture of two or more elements, at least one of which is a metal | D402: Topic 5 Transition Metals
A403: 402 | B403: Give a reason for alloying a metal | C403: To make it harder, to make it less reactive | D403: Topic 5 Transition Metals
A404: 403 | B404: Explain why alloys can be harder than pure metals | C404: Different size of atoms disturb the layers to stop them sliding over each other | D404: Topic 5 Transition Metals
A405: 404 | B405: What are the typical properties of transition metals? | C405: High melting point, high density, form coloured compounds, act as catalysts for particular reactions. | D405: Topic 5 Transition Metals
A406: 405 | B406: How can rusting of iron be prevented? | C406: By excluding water and oxygen | D406: Topic 5 Transition Metals
A407: 406 | B407: What can you exclude to reduce rusting of iron. | C407: water and oxygen | D407: Topic 5 Transition Metals
A408: 407 | B408: How else can rusting of iron be prevented? | C408: By sacrificial protection | D408: Topic 5 Transition Metals
A409: 408 | B409: What is sacrificial protection? | C409: Coating the metal in a more reactive metal that will react in preference to the one you are trying to protect | D409: Topic 5 Transition Metals
A410: 409 | B410: What is electroplating? | C410: Using electrolysis to coat the metal to be protected in a thin layer of another metal | D410: Topic 5 Transition Metals
A411: 410 | B411: Why is electroplating used? | C411: It improves appearance and increases resstance to corrosion. | D411: Topic 5 Transition Metals
A412: 411 | B412: Why is iron alloyed to make steel | C412: to improve resistance to corrosion and increase strength. | D412: Topic 5 Transition Metals
A413: 412 | B413: How does alloying gold increase its strength | C413: The different sized atoms mixed with the gold atoms disrupt the layers of identical gold atoms and stop them rolling over one another. | D413: Topic 5 Transition Metals
... A541: 540 | B541: What monomers are starch and cellulose made of? | C541: Glucose | D541: Topic 9 Polymers

Sheet Quiz 10
E1: Question from bank | F1: Question | G1: Answer
B2: Interleaved Questions | D2: 60 | E2: =IFERROR(RANDBETWEEN(1, D2), "") -> 28 | F2: =VLOOKUP(E2, Questions!A:H, 2, FALSE) -> Why do atoms have no overall charge? | G2: =VLOOKUP(E2, Questions!A:H, 3, FALSE) -> Because they have the same number of electrons as protons so the charges cancels each other out.
E3: =IFERROR(RANDBETWEEN(1, D2), "") -> 23 | F3: =VLOOKUP(E3, Questions!A:H, 2, FALSE) -> State the relative charges of the subatomic particles | G3: =VLOOKUP(E3, Questions!A:H, 3, FALSE) -> Protons: +1, neutrons: 0, electrons: -1
E4: =IFERROR(RANDBETWEEN(1, D2), "") -> 43 | F4: =VLOOKUP(E4, Questions!A:H, 2, FALSE) -> Why did Mendeleev put some elements in groups? | G4: =VLOOKUP(E4, Questions!A:H, 3, FALSE) -> Because they had similar chemical properties (e.g. they reacted violently with water)
E5: =IFERROR(RANDBETWEEN(1, D2), "") -> 33 | F5: =VLOOKUP(E5, Questions!A:H, 2, FALSE) -> Sodium has a mass number of 23, and an atomic number of 11. How many electrons, protons and neutrons? | G5: =VLOOKUP(E5, Questions!A:H, 3, FALSE) -> 11 protons, 11 electrons, 12 neutrons
E6: =IFERROR(RANDBETWEEN(1, D2), "") -> 39 | F6: =VLOOKUP(E6, Questions!A:H, 2, FALSE) -> Neon has a mass number of 20, and an atomic number of 10. How many electrons, protons and neutrons? | G6: =VLOOKUP(E6, Questions!A:H, 3, FALSE) -> 10 protons, 10 electrons, 10 neutrons
B7: Topic Questions | C7: 200 | D7: 250 | E7: =IFERROR(RANDBETWEEN(C7, D7), "") -> 244 | F7: =VLOOKUP(E7, Questions!A:H, 2, FALSE) -> What is produced at the anode and cathode in the electrolysis of aluminium oxide? | G7: =VLOOKUP(E7, Questions!A:H, 3, FALSE) -> Aluminium at the cathode and oxygen at the anode
E8: =IFERROR(RANDBETWEEN(C7, D7), "") -> 215 | F8: =VLOOKUP(E8, Questions!A:H, 2, FALSE) -> What happens to an ionic substance when it is melted or dissolved in water? | G8: =VLOOKUP(E8, Questions!A:H, 3, FALSE) -> The ions become free to move around
E9: =IFERROR(RANDBETWEEN(C7, D7), "") -> 235 | F9: =VLOOKUP(E9, Questions!A:H, 2, FALSE) -> Why use propanone to dry the electrodes when reweighing them after the electrolysis. | G9: =VLOOKUP(E9, Questions!A:H, 3, FALSE) -> It evaporates drying the electrodes, no need to physically dry them.
E10: =IFERROR(RANDBETWEEN(C7, D7), "") -> 222 | F10: =VLOOKUP(E10, Questions!A:H, 2, FALSE) -> At which electrode would Zn²+(aq) turn into Zn(s)? | G10: =VLOOKUP(E10, Questions!A:H, 3, FALSE) -> Cathode (needs to gain electrons)
E11: =IFERROR(RANDBETWEEN(C7, D7), "") -> 210 | F11: =VLOOKUP(E11, Questions!A:H, 2, FALSE) -> In this reaction, what has been oxidised and what has been reduced? Mg²⁺ + 2Na → 2Na⁺ + Mg | G11: =VLOOKUP(E11, Questions!A:H, 3, FALSE) -> Na has been oxidised, Mg²⁺ has been reduced

Sheet For board 10
A1: 1 | B1: ='Quiz 10'!F2 -> Why do atoms have no overall charge?
A2: 2 | B2: ='Quiz 10'!F3 -> State the relative charges of the subatomic particles
A3: 3 | B3: ='Quiz 10'!F4 -> Why did Mendeleev put some elements in groups?
A4: 4 | B4: ='Quiz 10'!F5 -> Sodium has a mass number of 23, and an atomic number of 11. How many electrons, protons and neutrons?
A5: 5 | B5: ='Quiz 10'!F6 -> Neon has a mass number of 20, and an atomic number of 10. How many electrons, protons and neutrons?
A6: 6 | B6: ='Quiz 10'!F7 -> What is produced at the anode and cathode in the electrolysis of aluminium oxide?
A7: 7 | B7: ='Quiz 10'!F8 -> What happens to an ionic substance when it is melted or dissolved in water?
A8: 8 | B8: ='Quiz 10'!F9 -> Why use propanone to dry the electrodes when reweighing them after the electrolysis.
A9: 9 | B9: ='Quiz 10'!F10 -> At which electrode would Zn²+(aq) turn into Zn(s)?
A10: 10 | B10: ='Quiz 10'!F11 -> In this reaction, what has been oxidised and what has been reduced? Mg²⁺ + 2Na → 2Na⁺ + Mg

Sheet Quiz 8
E1: Question from bank | F1: Question | G1: Answer
B2: Interleaved Questions | D2: =Questions!I1 -> 138 | E2: =IFERROR(RANDBETWEEN(1, D2), "") -> 47 | F2: =VLOOKUP(E2, Questions!A:H, 2, FALSE) -> What are groups in the periodic table? | G2: =VLOOKUP(E2, Questions!A:H, 3, FALSE) -> The columns, numbered 1, 2, 3, 4, 5, 6, 7, 0
E3: =IFERROR(RANDBETWEEN(1, D2), "") -> 97 | F3: =VLOOKUP(E3, Questions!A:H, 2, FALSE) -> Describe the main features of metals in terms of their structure | G3: =VLOOKUP(E3, Questions!A:H, 3, FALSE) -> Positive metal ions arranged in layers with delocalised electrons
E4: =IFERROR(RANDBETWEEN(1, D2), "") -> 35 | F4: =VLOOKUP(E4, Questions!A:H, 2, FALSE) -> What makes an atom a particular type of atom? | G4: =VLOOKUP(E4, Questions!A:H, 3, FALSE) -> Each type of atom has a number of protons, a different number of protons would make something a different type of atom.
E5: =IFERROR(RANDBETWEEN(1, D2), "") -> 110 | F5: =VLOOKUP(E5, Questions!A:H, 2, FALSE) -> What are the limitations of dot and cross diagrams. | G5: =VLOOKUP(E5, Questions!A:H, 3, FALSE) -> It does not show the shape of the molecule or the size of the atoms.
B6: Topic Questions | C6: =Questions!I2 -> 139 | D6: =Questions!I3 -> 154 | E6: =IFERROR(RANDBETWEEN(C6, D6), "") -> 140 | F6: =VLOOKUP(E6, Questions!A:H, 2, FALSE) -> 0 | G6: =VLOOKUP(E6, Questions!A:H, 3, FALSE) -> 0
E7: =IFERROR(RANDBETWEEN(C6, D6), "") -> 149 | F7: =VLOOKUP(E7, Questions!A:H, 2, FALSE) -> What is simple distillation used to separate? | G7: =VLOOKUP(E7, Questions!A:H, 3, FALSE) -> A liquid from a solid
E8: =IFERROR(RANDBETWEEN(C6, D6), "") -> 153 | F8: =VLOOKUP(E8, Questions!A:H, 2, FALSE) -> What is potable water? | G8: =VLOOKUP(E8, Questions!A:H, 3, FALSE) -> Drinking water
E9: =IFERROR(RANDBETWEEN(C6, D6), "") -> 154 | F9: =VLOOKUP(E9, Questions!A:H, 2, FALSE) -> How can sea water be made potable? | G9: =VLOOKUP(E9, Questions!A:H, 3, FALSE) -> By distillation

Sheet For board 8
A1: 1 | B1: ='Quiz 8'!F2 -> What are groups in the periodic table?
A2: 2 | B2: ='Quiz 8'!F3 -> Describe the main features of metals in terms of their structure
A3: 3 | B3: ='Quiz 8'!F4 -> What makes an atom a particular type of atom?
A4: 4 | B4: ='Quiz 8'!F5 -> What are the limitations of dot and cross diagrams.
A5: 5 | B5: ='Quiz 8'!F6 -> 0
A6: 6 | B6: ='Quiz 8'!F7 -> What is simple distillation used to separate?
A7: 7 | B7: ='Quiz 8'!F8 -> What is potable water?
A8: 8 | B8: ='Quiz 8'!F9 -> How can sea water be made potable?

Sheet Quiz 6
E1: Question from bank | F1: Question | G1: Answer
B2: Interleaved Questions | D2: =Questions!I1 -> 138 | E2: =IFERROR(RANDBETWEEN(1, D2), "") -> 133 | F2: =VLOOKUP(E2, Questions!A:H, 2, FALSE) -> A substance has a melting point of 25 oC and a boiling point of 235 oC. What state is it at 5oC? | G2: =VLOOKUP(E2, Questions!A:H, 3, FALSE) -> Solid
E3: =IFERROR(RANDBETWEEN(1, D2), "") -> 47 | F3: =VLOOKUP(E3, Questions!A:H, 2, FALSE) -> What are groups in the periodic table? | G3: =VLOOKUP(E3, Questions!A:H, 3, FALSE) -> The columns, numbered 1, 2, 3, 4, 5, 6, 7, 0
E4: =IFERROR(RANDBETWEEN(1, D2), "") -> 77 | F4: =VLOOKUP(E4, Questions!A:H, 2, FALSE) -> Explain why ionic compounds do not conduct electricity when solid | G4: =VLOOKUP(E4, Questions!A:H, 3, FALSE) -> Because the ions are not free to move
B5: Topic Questions | C5: =Questions!I2 -> 139 | D5: =Questions!I3 -> 154 | E5: =IFERROR(RANDBETWEEN(C5, D5), "") -> 143 | F5: =VLOOKUP(E5, Questions!A:H, 2, FALSE) -> How can chromatography show the difference between pure and impure substances? | G5: =VLOOKUP(E5, Questions!A:H, 3, FALSE) -> Pure ones will not separate into a number of spots
E6: =IFERROR(RANDBETWEEN(C5, D5), "") -> 149 | F6: =VLOOKUP(E6, Questions!A:H, 2, FALSE) -> What is simple distillation used to separate? | G6: =VLOOKUP(E6, Questions!A:H, 3, FALSE) -> A liquid from a solid
E7: =IFERROR(RANDBETWEEN(C5, D5), "") -> 153 | F7: =VLOOKUP(E7, Questions!A:H, 2, FALSE) -> What is potable water? | G7: =VLOOKUP(E7, Questions!A:H, 3, FALSE) -> Drinking water

Sheet For board 6
A1: 1 | B1: ='Quiz 6'!F2 -> A substance has a melting point of 25 oC and a boiling point of 235 oC. What state is it at 5oC?
A2: 2 | B2: ='Quiz 6'!F3 -> What are groups in the periodic table?
A3: 3 | B3: ='Quiz 6'!F4 -> Explain why ionic compounds do not conduct electricity when solid
A4: 4 | B4: ='Quiz 6'!F5 -> How can chromatography show the difference between pure and impure substances?
A5: 5 | B5: ='Quiz 6'!F6 -> What is simple distillation used to separate?
A6: 6 | B6: ='Quiz 6'!F7 -> What is potable water?

Sheet Instructions
A1: To create quizzes:
A3: 1. Add questions and answers to the list on the ‘Questions’ tab.
A4: 2. Set up your question range:
A5: Enter the question number you have covered up to in cell F1
A6: Enter the first question number of your current topic in cell F2
A7: Enter the last question number of your current topic in cell F3
A8: 3. Click the tab name (e.g. Battleships 6×6) for the questions to be randomly populated into the template grid
A9: 4. Press F9 on any tab to refresh with a new random set of questions. There are occasional repeats within the same grid – I’m currently trying to work out a way to stop this, but my students actually quite like it.
A10: 5. When you go to print the template you will get two A4 sheets – one with the questions and one with the answers. The printed template will also feature a random Quiz ID so that you can match the questions and answers in case you produce numerous quizzes.
A13: Using a macro to create and print multiple random quizzes
A15: You can use a macro to automatically create and print a certain number of random quizzes. It only takes a couple of minutes to set up and allows you to produce unlimited random quizzes quickly and easily:
A17: 1. Load the spreadsheet and go to the VBA editor (press alt-F11)
... A33: Now just press the ‘play’ button to run the macro and hey presto

Sheet Printing
A1: Spec Ref | B1: No. | C1: Question | D1: Answer | E1: Topic | F1: Spec Ref | I1: Students have studied up to question: | J1: 138
B2: 1 | C2: Define atom | D2: The smallest part of an element that can still be recognised as that element | E2: Chemistry fundamentals | I2: Start question of current topic: | J2: 139
B3: =B2+1 -> 2 | C3: Define element | D3: A substance made of only one type of atom | E3: Chemistry fundamentals | I3: End question of current topic: | J3: 154
B4: =B3+1 -> 3 | C4: Define compound | D4: A substance made of two or more different atoms chemically bonded together | E4: Chemistry fundamentals
B5: =B4+1 -> 4 | C5: Define molecule | D5: A substance made of more than one atom chemically bonded together (can be atoms of the same type!) | E5: Chemistry fundamentals
A6: 0.1 | B6: =B5+1 -> 5 | C6: What is the formula of the hydroxide ion? | D6: OH- | E6: Chemistry fundamentals
A7: 0.1 | B7: =B6+1 -> 6 | C7: What is the formula of the sulphate ion? | D7: SO42- | E7: Chemistry fundamentals
A8: 0.1 | B8: =B7+1 -> 7 | C8: What is the formula of the nitrate ion? | D8: NO3- | E8: Chemistry fundamentals
A9: 0.1 | B9: =B8+1 -> 8 | C9: What is the formula of the group 1 metal ions? | D9: Li+, Na+, K+ | E9: Chemistry fundamentals
A10: 0.1 | B10: =B9+1 -> 9 | C10: What is the formula of the group 2 metal ions? | D10: Be2+, Mg2+, Ca2+ | E10: Chemistry fundamentals
A11: 0.1 | B11: =B10+1 -> 10 | C11: What is the formula of the oxide ion? | D11: O2- | E11: Chemistry fundamentals
A12: 0.1 | B12: =B11+1 -> 11 | C12: What is the formula of the ammonium ion? | D12: NH4+ | E12: Chemistry fundamentals
A13: 0.5 | B13: =B12+1 -> 12 | C13: What does this hazard symbol indicate? | D13: Corrosive | E13: Chemistry fundamentals
A14: 0.5 | B14: =B13+1 -> 13 | C14: What does this hazard symbol indicate? | D14: Environmental hazard | E14: Chemistry fundamentals
A15: 0.5 | B15: =B14+1 -> 14 | C15: What does this hazard symbol indicate? | D15: Toxic | E15: Chemistry fundamentals
A16: 0.5 | B16: =B15+1 -> 15 | C16: What does this hazard symbol indicate? | D16: Irritant | E16: Chemistry fundamentals
A17: 0.3 | B17: =B16+1 -> 16 | C17: What does (aq) stand for? | D17: Aqueous: when something is dissolved in water. E.g. NaCl(aq) is salt water | E17: Chemistry fundamentals
... A20: 0.3 | B20: =B19+1 -> 19 | C20: What does (g) stand for? | D20: Gas | E20: Chemistry fundamentals
B21: =B20+1 -> 20 | C21: What safety measures should you use if a practical produces a toxic gas? | D21: Use a fume cupboard | E21: Chemistry fundamentals
A22: 1.2 | B22: =B21+1 -> 21 | C22: State the three subatomic particles | D22: Protons, neutrons, electrons | E22: Topic 1 Atomic Structure
A23: 1.3 | B23: =B22+1 -> 22 | C23: State the masses of the subatomic particles | D23: Protons: 1, neutrons: 1, electrons: 0 | E23: Topic 1 Atomic Structure
A24: 1.3 | B24: =B23+1 -> 23 | C24: State the relative charges of the subatomic particles | D24: Protons: +1, neutrons: 0, electrons: -1 | E24: Topic 1 Atomic Structure
A25: 1.3 | B25: =B24+1 -> 24 | C25: How are the subatomic particles arranged in an atom? | D25: Protons and neutrons in the nucleus, electrons orbiting in shells | E25: Topic 1 Atomic Structure
A26: 1.7 | B26: =B25+1 -> 25 | C26: What is the mass number of an atom? | D26: The number of protons + the number of neutrons in an atom | E26: Topic 1 Atomic Structure
A27: 1.1 | B27: =B26+1 -> 26 | C27: How do you calculate the number of neutrons in an atom? | D27: Mass number - atomic number | E27: Topic 1 Atomic Structure
A28: 1.3 | B28: =B27+1 -> 27 | C28: What is the mass and charge of a neutron? | D28: Mass = 1 Charge =0 | E28: Topic 1 Atomic Structure
A29: 1.4 | B29: =B28+1 -> 28 | C29: Why do atoms have no overall charge? | D29: Because they have the same number of electrons as protons so the charges cancels each other out. | E29: Topic 1 Atomic Structure
A30: 1.5 | B30: =B29+1 -> 29 | C30: How does the size of the nucleus compare to the size of the atom? | D30: Nucleus is very small | E30: Topic 1 Atomic Structure
A31: 1.12 | B31: =B30+1 -> 30 | C31: How can you calculate relative atomic mass given isotopes masses and abundances? | D31: (mass 1 x abundance) + (mass2 x abundance) / 100 | E31: Topic 1 Atomic Structure
A32: 1.9 | B32: =B31+1 -> 31 | C32: What are isotopes? | D32: Atoms of the same element with different mass numbers | E32: Topic 1 Atomic Structure
A33: 1.9 | B33: =B32+1 -> 32 | C33: What are the similarities and differences between isotopes? | D33: Same number of electrons and protons but a different number of neutrons. | E33: Topic 1 Atomic Structure
A34: 1.10. | B34: =B33+1 -> 33 | C34: Sodium has a mass number of 23, and an atomic number of 11. How many electrons, protons and neutrons? | D34: 11 protons, 11 electrons, 12 neutrons | E34: Topic 1 Atomic Structure
A35: 1.10. | B35: =B34+1 -> 34 | C35: Aluminium has a mass number of 27, and an atomic number of 13. How many electrons, protons and neutrons? | D35: 13 protons, 13 electrons, 14 neutrons | E35: Topic 1 Atomic Structure
B36: =B35+1 -> 35 | C36: What makes an atom a particular type of atom? | D36: Each type of atom has a number of protons, a different number of protons would make something a different type of atom. | E36: Topic 1 Atomic Structure
A37: 1.11 | B37: =B36+1 -> 36 | C37: What are some of the values for relative atomic mass not whole numbers? | D37: They are the average mass of an atom of that isotope, there are several kinds each present in a different amount. So the average is not a whole number. | E37: Topic 1 Atomic Structure
B38: =B37+1 -> 37 | C38: How do you work out the mass number of an element? | D38: no. protons + no. Neutrons | E38: Topic 1 Atomic Structure
B39: =B38+1 -> 38 | C39: What do you do when asked to compare 2 atoms given atomic number and mass number? | D39: State how many electrons, protons and neutrons they both have. | E39: Topic 1 Atomic Structure
B40: =B39+1 -> 39 | C40: Neon has a mass number of 20, and an atomic number of 10. How many electrons, protons and neutrons? | D40: 10 protons, 10 electrons, 10 neutrons | E40: Topic 1 Atomic Structure
B41: =B40+1 -> 40 | C41: Nitrogen has a mass number of 14, and an atomic number of 7. How many electrons, protons and neutrons? | D41: 7 protons, 7 electrons, 7 neutrons | E41: Topic 1 Atomic Structure
A42: 1.16 | B42: =B41+1 -> 41 | C42: What is the atomic number of an atom? | D42: The number of protons in an atom | E42: Topic 1 Periodic Table
A43: 1.16 | B43: =B42+1 -> 42 | C43: What can the period tell you about the electrons in an atom? | D43: How many shells an atom has. E.g. carbon is in the second period so has two shells | E43: Topic 1 Periodic Table
A44: 1.13 | B44: =B43+1 -> 43 | C44: Why did Mendeleev put some elements in groups? | D44: Because they had similar chemical properties (e.g. they reacted violently with water) | E44: Topic 1 Periodic Table
A45: 1.15 | B45: =B44+1 -> 44 | C45: What did Mendeleev put the elements in order of? | D45: Increasing atomic mass | E45: Topic 1 Periodic Table
A46: 1.15 | B46: =B45+1 -> 45 | C46: How is the modern periodic table organised? | D46: In order of increasing atomic number | E46: Topic 1 Periodic Table
A47: 1.14 | B47: =B46+1 -> 46 | C47: Why did Mendeleev leave gaps in his periodic table? | D47: For elements that had not been discovered yet | E47: Topic 1 Periodic Table
B48: =B47+1 -> 47 | C48: What are groups in the periodic table? | D48: The columns, numbered 1, 2, 3, 4, 5, 6, 7, 0 | E48: Topic 1 Periodic Table
A49: 1.16 | B49: =B48+1 -> 48 | C49: What can the group tell you about the electrons in an atom? | D49: How many electrons in the outer shell. E.g. carbon is in group 4 so has 4 electrons in the outer shell | E49: Topic 1 Periodic Table
A50: 1.19 | B50: =B49+1 -> 49 | C50: How are the electrons arranged in atoms? | D50: Orbiting the nucleus in shells | E50: Topic 1 Periodic Table
A51: 1.19 | B51: =B50+1 -> 50 | C51: Where are the metals found on the periodic table? | D51: on the left hand side | E51: Topic 1 Periodic Table
A52: 1.19 | B52: =B51+1 -> 51 | C52: How many electrons does calcium have? | D52: 20 (same as atomic number!) | E52: Topic 1 Periodic Table
A53: 1.19 | B53: =B52+1 -> 52 | C53: How many electrons does silicon have? | D53: 14 (same as atomic number!) | E53: Topic 1 Periodic Table
A54: 1.19 | B54: =B53+1 -> 53 | C54: How are the electrons in sulphur arranged? | D54: 2.8.6 (18 electrons total) | E54: Topic 1 Periodic Table
A55: 1.19 | B55: =B54+1 -> 54 | C55: How are the electrons in magnesium arranged? | D55: 2.8.2 (12 electrons total) | E55: Topic 1 Periodic Table
A56: 1.19 | B56: =B55+1 -> 55 | C56: How many electrons are in the outer shell of boron? | D56: 3 (it is in group 3!) | E56: Topic 1 Periodic Table
A57: 1.19 | B57: =B56+1 -> 56 | C57: How many electrons are in the outer shell of phosphorous? | D57: 5 (it is in group 5!) | E57: Topic 1 Periodic Table
A58: 1.19 | B58: =B57+1 -> 57 | C58: How many electrons are in the outer shell of sodium? | D58: 1 (it is in group 1!) | E58: Topic 1 Periodic Table
A59: 1.20. | B59: =B58+1 -> 58 | C59: An element has three shells and three electrons in the outer shell. What element is it? | D59: Aluminium (group 3, period 3 | E59: Topic 1 Periodic Table
A60: 1.19 | B60: =B59+1 -> 59 | C60: How many electrons are in the outer shell of Gallium? | D60: 3 (it is in group 3!) | E60: Topic 1 Periodic Table
A61: 1.19 | B61: =B60+1 -> 60 | C61: How many electrons can go in the first shell? How many in the second shell? | D61: 2 = 1st shell, 9 = second shell | E61: Topic 1 Periodic Table
A62: 1.21 | B62: =B61+1 -> 61 | C62: Why do atoms transfer electrons in ionic bonding? | D62: So that they can have full outer shells | E62: Topic 1 Bonding
A63: 1.24 | B63: =B62+1 -> 62 | C63: Explain in terms of electrons what occurs when lithium bonds with fluorine | D63: One electron transferred from lithium to fluorine | E63: Topic 1 Bonding
A64: 1.24 | B64: =B63+1 -> 63 | C64: Explain in terms of electrons what occurs when magnesium bonds with oxygen | D64: Two electrons transferred from magnesium to oxygen | E64: Topic 1 Bonding
A65: 1.24 | B65: =B64+1 -> 64 | C65: Explain in terms of electrons what occurs when beryllium bonds with oxygen (3 marks) | D65: Two electrons transferred from beryllium to oxygen | E65: Topic 1 Bonding
A66: 1.24 | B66: =B65+1 -> 65 | C66: Explain in terms of electrons what occurs when magnesium bonds with chlorine | D66: One electron transferred from magnesium to two different chlorine atoms | E66: Topic 1 Bonding
A67: 1.24 | B67: =B66+1 -> 66 | C67: Explain in terms of electrons what occurs when sodium bonds with oxygen | D67: Two electrons transferred to an oxygen atom from two different sodium atoms | E67: Topic 1 Bonding
A68: 1.24 | B68: =B67+1 -> 67 | C68: Why do sodium ions and chlorine ions form an ionic bond? | D68: There is an electrostatic force of attraction between oppositely charged ions | E68: Topic 1 Bonding
A69: 1.24 | B69: =B68+1 -> 68 | C69: Why don't sulphur ions and oxygen ions form ionic bonds with each other? | D69: Both have negative charges so would repel | E69: Topic 1 Bonding
A70: 1.22 | B70: =B69+1 -> 69 | C70: What is the name for a substance made of billions of oppositely charged ions joined together? | D70: Giant ionic lattice | E70: Topic 1 Bonding
A71: 1.27 | B71: =B70+1 -> 70 | C71: Define giant ionic lattice | D71: A huge 3D network of ions | E71: Topic 1 Bonding
... A84: 1.35 | B84: =B83+1 -> 83 | C84: What is the name given to the structure of diamond, graphite and silicon dioxide? | D84: Giant covalent | E84: Topic 1 Bonding
A85: 1.36 | B85: =B84+1 -> 84 | C85: How many bonds does each carbon have in diamond? | D85: 4 | E85: Topic 1 Bonding
A86: 1.37 | B86: =B85+1 -> 85 | C86: Explain why diamond has a high melting point | D86: Giant structure, Strong covalent bonds between the atoms, requires a lot of energy to break | E86: Topic 1 Bonding
A87: 1.37 | B87: =B86+1 -> 86 | C87: Explain why most giant covalent substances do not conduct electricity (3 marks) | D87: There are no electrons/ions/charged particles that are free to move | E87: Topic 1 Bonding
A88: 1.37 | B88: =B87+1 -> 87 | C88: Explain why graphite conducts electricity | D88: Has delocalised electrons between the layers that can move through the graphite | E88: Topic 1 Bonding
A89: 1.37 | B89: =B88+1 -> 88 | C89: Explain why graphite can act as a lubricant | D89: Weak forces between layers which are free to slide over each other | E89: Topic 1 Bonding
A90: 1.38 | B90: =B89+1 -> 89 | C90: What is graphene? | D90: One layer of graphite | E90: Topic 1 Bonding
A91: 1.38 | B91: =B90+1 -> 90 | C91: What is a fullerene? | D91: Substance made of carbon atoms arranged in a cage | E91: Topic 1 Bonding
A92: 1.32 | B92: =B91+1 -> 91 | C92: What type of substance are methane and water? | D92: Simple molecular (or simple molecules) | E92: Topic 1 Bonding
A93: 1.29 | B93: =B92+1 -> 92 | C93: What is a molecule? | D93: A group of atoms chemically bonded together | E93: Topic 1 Bonding
A94: 1.31 | B94: =B93+1 -> 93 | C94: Describe the structure of simple covalent molecules | D94: Strong covalent bonds between atoms, weak forces holding the molecules together | E94: Topic 1 Bonding
A95: 1.34 | B95: =B94+1 -> 94 | C95: What are intermolecular forces? | D95: Weak forces between molecules which hold them together | E95: Topic 1 Bonding
A96: 1.34 | B96: =B95+1 -> 95 | C96: Explain why methane has a low melting point | D96: It is a simple molecular substance with weak forces between the molecules (which are easy to break) | E96: Topic 1 Bonding
A97: 1.39 | B97: =B96+1 -> 96 | C97: What is a polymer? | D97: Millions of small molecules joined together in a chain to form a large molecule | E97: Topic 1 Bonding
A98: 1.40. | B98: =B97+1 -> 97 | C98: Describe the main features of metals in terms of their structure | D98: Positive metal ions arranged in layers with delocalised electrons | E98: Topic 1 Bonding
A99: 1.42 | B99: =B98+1 -> 98 | C99: Explain why metals can conduct electricity | D99: Delocalised electrons are free to carry charge | E99: Topic 1 Bonding
A100: 1.42 | B100: =B99+1 -> 99 | C100: Explain why pure metals are soft | D100: Layers of metal ions are free to slide over each other | E100: Topic 1 Bonding
A101: 1.21 | B101: =B100+1 -> 100 | C101: Explain in terms of electrons what occurs when lithium bonds with chlorine | D101: One electron transferred from lithium to chlorine | E101: Topic 1 Bonding
A102: 1.21 | B102: =B101+1 -> 101 | C102: What charge will an ion of lithium take? | D102: 1+ (one electron in the outer shell, needs to lose it) | E102: Topic 2 States of Matter
A103: 1.21 | B103: =B102+1 -> 102 | C103: What charge will an ion of beryllium take? | D103: 2+ (two electrons in the outer shell, needs to lose them both) | E103: Topic 2 States of Matter
A104: 1.21 | B104: =B103+1 -> 103 | C104: What charge will an ion of barium take? | D104: 2+ (group 2 so two electrons in the outer shell, needs to lose them both) | E104: Topic 2 States of Matter
A105: 1.21 | B105: =B104+1 -> 104 | C105: What charge will an ion of fluorine take? | D105: 1- (7 electrons in the outer shell, needs to gain one) | E105: Topic 2 States of Matter
A106: 1.21 | B106: =B105+1 -> 105 | C106: If something has gained electrons, what charge will it have? | D106: Negative | E106: Topic 2 States of Matter
A107: 1.21 | B107: =B106+1 -> 106 | C107: If something has lost electrons, what charge will it have? | D107: Positive (because they have lost a negative!)
A108: 1.21 | B108: =B107+1 -> 107 | C108: What charge will an ion of oxygen take? | D108: 2- (6 electrons in outer shell so needs to gain two)
A109: 1.24 | B109: =B108+1 -> 108 | C109: What is an ion? | D109: an atom which has lost or gained an electron
A110: 1.23 | B110: =B109+1 -> 109 | C110: How many electrons, protons and neutrons in a sodium ion Na+ ? | D110: 11 protons, 12 neutrons, 10 electrons
A111: 1.41 | B111: =B110+1 -> 110 | C111: What are the limitations of dot and cross diagrams. | D111: It does not show the shape of the molecule or the size of the atoms.
A112: 1.25 | B112: =B111+1 -> 111 | C112: If a compound name ends in -ate what does this show? | D112: It is a molecule made of the other elements in the name and oxygen.
A113: 1.41 | B113: =B112+1 -> 112 | C113: What are the limitations of a ball and stick model | D113: It does not show the electrons involved in the bonds. It does not show the 3d shape
A114: 1.25 | B114: =B113+1 -> 113 | C114: What elements are in sodium sulfate? | D114: Sodium, sulfur and oxygen
...

Sheet links to quizlet sets
A1: Topic 0 | B1: https://quizlet.com/_6qosi7
A2: Topic 1 | B2: https://quizlet.com/_6qoss8
A3: Topic 1 Periodic Table | B3: https://quizlet.com/_6qosxk
A4: Topic 1 - Bonding | B4: https://quizlet.com/_6qot8p
A5: Topic 2 States of Matter | B5: https://quizlet.com/_6qotfc
A6: Topic 2 Separting Techniques | B6: https://quizlet.com/_6qotle
A7: Topic 3 Acids | B7: https://quizlet.com/_6qotpu
A8: Topic 3 Electrolysis | B8: https://quizlet.com/_6qotvw
A9: Topic 4 Metals | B9: https://quizlet.com/_6qou1f
A10: Topic 4 Equilibrium | B10: https://quizlet.com/_6qou7n
A11: Topic 6 Periodic Table | B11: https://quizlet.com/_6rwc03
A12: Topic 7 - Rates | B12: https://quizlet.com/_6rwcef
... A22: Topic 9 - Alcohols and Carboxylic Acids | B22: https://quizlet.com/_6uu8fl
