Workbook

Sheet Questions
A1: Number | B1: Question | C1: Answer | D1: Topic | E1: Sub-topic
A2: 1 | B2: What is an atom? | C2: The smallest part of an element that can still be recognised as that element | D2: Chemistry fundamentals
A3: 2 | B3: What is an element? | C3: A substance made of only one type of atom | D3: Chemistry fundamentals
A4: 3 | B4: What is a compound? | C4: A substance made of two or more different atoms chemically bonded together | D4: Chemistry fundamentals
A5: 4 | B5: What isa molecule? | C5: A substance made of more than one atom chemically bonded together (can be atoms of the same type!) | D5: Chemistry fundamentals
A6: 5 | B6: What is a mixture? | C6: A substance made of more than one thing not chemically bonded together | D6: Chemistry fundamentals
A7: 6 | B7: Name the three subatomic particles | C7: Protons, neutrons, electrons | D7: Chemistry fundamentals
A8: 7 | B8: State the masses of the subatomic particles | C8: Protons: 1, neutrons: 1, electrons: 0 | D8: Chemistry fundamentals
A9: 8 | B9: State the relative charges of the subatomic particles | C9: Protons: +1, neutrons: 0, electrons: -1 | D9: Chemistry fundamentals
A10: 9 | B10: How are the subatomic particles arranged in an atom? | C10: Protons and neutrons in the nucleus, electrons orbiting in shells | D10: Chemistry fundamentals
A11: 10 | B11: What is the plum pudding model of the atom? | C11: A ball of positive charge with negative electrons studded into it | D11: Chemistry fundamentals
A12: 11 | B12: What did the gold foil experiment prove? | C12: That atoms have dense nucleuses with a positive charge | D12: Chemistry fundamentals
A13: 12 | B13: What is the atomic number of an atom? | C13: The number of protons in an atom | D13: Chemistry fundamentals
... A20: 19 | B20: What is abundance? | C20: The % of atoms in a universe with a particular mass | D20: Chemistry fundamentals
A21: 20 | B21: Calculate the average mass of an element from given data | D21: Chemistry fundamentals
A22: 21 | B22: How are the electrons arranged in atoms? | C22: Orbiting the nucleus in shells | D22: Chemistry fundamentals
A23: 22 | B23: How many electrons can go in the first shell? | C23: 2 | D23: Chemistry fundamentals
A24: 23 | B24: How many electrons can go in the second and third shells? | C24: 8 | D24: Chemistry fundamentals
A25: 24 | B25: What are groups in the periodic table? | C25: The columns, numbered 1, 2, 3, 4, 5, 6, 7, 0 | D25: Chemistry fundamentals
A26: 25 | B26: What can the group tell you about the electrons in an atom? | C26: How many electrons in the outer shell. E.g. carbon is in group 4 so has 4 electrons in the outer shell | D26: Chemistry fundamentals
A27: 26 | B27: What are periods in the periodic table? | C27: The rows in the periodic table | D27: Chemistry fundamentals
A28: 27 | B28: What can the period tell you about the electrons in an atom? | C28: How many shells an atom has. E.g. carbon is in the second period so has two shells | D28: Chemistry fundamentals
A29: 28 | B29: Why did Mendeleev put some elements in groups? | C29: Because they had similar properties (e.g. they reacted violently with water) | D29: Chemistry fundamentals
A30: 29 | B30: Why did Mendeleev leave gaps in his periodic table? | C30: For elements that had not been discovered yet | D30: Chemistry fundamentals
A31: 30 | B31: How many electrons are in a given element? | D31: Chemistry fundamentals
A32: 31 | B32: How are the electrons in a given atom arranged? | D32: Chemistry fundamentals
A33: 32 | B33: Draw an electron shell diagram of a given element | D33: Chemistry fundamentals
A34: 33 | B34: How many electrons are in the outer shell of a given atom? | D34: Chemistry fundamentals
A35: 34 | B35: Identify an element by a given number of electrons in the outer shell and number of shells | D35: Chemistry fundamentals
A36: 35 | B36: What charge do electrons have? | C36: -1 | D36: Ionic bonding
A37: 36 | B37: What charge will an ion of lithium take? | C37: 1+ (one electron in the outer shell, needs to lose it) | D37: Ionic bonding
A38: 37 | B38: What charge will an ion of beryllium take? | C38: 2+ (two electrons in the outer shell, needs to lose them both) | D38: Ionic bonding
A39: 38 | B39: What charge will an ion of barium take? | C39: 2+ (group 2 so two electrons in the outer shell, needs to lose them both) | D39: Ionic bonding
A40: 39 | B40: What charge will an ion of fluorine take? | C40: 1- (7 electrons in the outer shell, needs to gain one) | D40: Ionic bonding
A41: 40 | B41: If something has gained electrons, what charge will it have? | C41: Negative | D41: Ionic bonding
A42: 41 | B42: If something has lost electrons, what charge will it have? | C42: Positive (because they have lost a negative!) | D42: Ionic bonding
A43: 42 | B43: What charge will an ion of oxygen take? | C43: 2- (6 electrons in outer shell so needs to gain two) | D43: Ionic bonding
A44: 43 | B44: What charge will an ion of Selenium take? | C44: 2- (group 6, so has 6 electrons in the outer shell and needs to gain two) | D44: Ionic bonding
A45: 44 | B45: Explain in terms of electrons what occurs when lithium bonds with chlorine | C45: One electron transferred from lithium to chlorine | D45: Ionic bonding
A46: 45 | B46: Why do atoms transfer electrons in ionic bonding? | C46: So that they can have full outer shells | D46: Ionic bonding
A47: 46 | B47: Explain in terms of electrons what occurs when lithium bonds with fluorine | C47: One electron transferred from lithium to fluorine | D47: Ionic bonding
A48: 47 | B48: Explain in terms of electrons what occurs when magnesium bonds with oxygen | C48: Two electrons transferred from magnesium to oxygen | D48: Ionic bonding
... A72: 71 | B72: What is the name given to the structure of diamond, graphite and silicon dioxide? | C72: Giant covalent | D72: Covalent bonding
A73: 72 | B73: How many bonds does each carbon have in diamond? | C73: 4 | D73: Covalent bonding
A74: 73 | B74: Explain why diamond has a high melting point | C74: Giant structure, Strong covalent bonds between the atoms, requires a lot of energy to break | D74: Covalent bonding
A75: 74 | B75: Explain why most giant covalent substances do not conduct electricity (3 marks) | C75: There are no electrons/ions/charged particles that are free to move | D75: Covalent bonding
A76: 75 | B76: Explain why graphite conducts electricity | C76: Has delocalised electrons between the layers that can move through the graphite | D76: Covalent bonding
A77: 76 | B77: Making full reference to structure and bonding in graphite, explain how it conducts electricity | C77: Each carbon has 3 bonds, 1 electron is delocalised, free to carry charge through the graphite | D77: Covalent bonding
A78: 77 | B78: Explain why graphite can act as a lubricant | C78: Weak forces between layers which are free to slide over each other | D78: Covalent bonding
A79: 78 | B79: What is graphene? | C79: One layer of graphite | D79: Covalent bonding
A80: 79 | B80: What is a fullerene? | C80: Substance made of carbon atoms arranged in a cage | D80: Covalent bonding
A81: 80 | B81: What type of substance are methane and water? | C81: Simple molecular (or simple molecules) | D81: Covalent bonding
A82: 81 | B82: What is a molecule? | C82: A group of atoms chemically bonded together | D82: Covalent bonding
A83: 82 | B83: Describe the structure of simple covalent molecules | C83: Strong covalent bonds between atoms, weak forces holding the molecules together | D83: Covalent bonding
A84: 83 | B84: What are intermolecular forces? | C84: Weak forces between molecules which hold them together | D84: Covalent bonding
A85: 84 | B85: Explain why methane has a low melting point | C85: It is a simple molecular substance with weak forces between the molecules (which are easy to break) | D85: Covalent bonding
... A123: 122 | B123: How big are nanoparticles? | C123: 1-100nm, a few hundred atoms | D123: Nanoparticles
A124: 123 | B124: For a given cube, calculate the surface area to volume ratio | D124: Nanoparticles
A125: 124 | B125: Why do nanoparticles have different properties to bulk materials? | C125: Because of their high SA:V ratio | D125: Nanoparticles
A126: 125 | B126: Give two examples of what nanoparticles can be used for | C126: Medical applications, sun creams, catalysts, deoderants, cosmetics, electronics | D126: Nanoparticles
A127: 126 | B127: What is the conservation of mass? | C127: That atoms cannot be created or destroyed | D127: Double quantitative
A128: 127 | B128: Balance a given equation | D128: Double quantitative
A129: 128 | B129: When a metal forms a metal oxide, why does the mass increase? | C129: Because oxygen atoms have been added | D129: Double quantitative
A130: 129 | B130: When an acid reacts with a metal, why does the mass decrease? | C130: Because a gas is produced and escapes | D130: Double quantitative
A131: 130 | B131: What is relative formula mass? | C131: The sum of the relative masses of each atom in a compound | D131: Double quantitative
A132: 131 | B132: What are the four state symbols and what do they stand for? | C132: (s) solid (l) liquid (g) gas (aq) aqueous | D132: Double quantitative
A133: 132 | B133: What symbol do we use for relative formula mass? | C133: Mr | D133: Double quantitative
A134: 133 | B134: Calculate the Mr of ______ | D134: Double quantitative
A135: 134 | B135: What is a mole? | C135: A number of particles | D135: Double quantitative
A136: 135 | B136: What is Avogadro's number? | C136: 6.022x10^23 | D136: Double quantitative
A137: 136 | B137: How many atoms are in ____ moles? | D137: Double quantitative
A138: 137 | B138: How many _____ are in _____ moles of _____? | D138: Double quantitative
A139: 138 | B139: What formula relates moles, mass and Mr? | C139: Moles = mass/Mr | D139: Double quantitative
A140: 139 | B140: In a given reaction, what mass of ______ is formed from _______g of _______? | D140: Double quantitative
A141: 140 | B141: Balance a given equation, where ____g of _____ reacts with ______g of ______ | D141: Double quantitative
A142: 141 | B142: What is a limiting rectant? | C142: A reactant that does not have enough mass to react with all the product | D142: Double quantitative
A143: 142 | B143: In a given reaction, ____g of _____ reacts with _____g of _____. Which is the limiting reactant? | D143: Double quantitative
A144: 143 | B144: What is the unit for concentration? (Double only) | C144: g/dm^3 | D144: Double quantitative
A145: 144 | B145: Which formula relates concentration, mass and volume? | C145: concentration = mass/volume | D145: Double quantitative
A146: 145 | B146: What is the concentration of a solution with ______g of solute in _____dm3? | D146: Double quantitative
A147: 146 | B147: What mass of solute is present in a solution with a concentration of ____g/dm^3 and volume _____dm^3? | D147: Double quantitative
A148: 147 | B148: What is the volume of a solution with ____g of solute and a concentration of _____g/dm^3? | D148: Double quantitative
A149: 148 | B149: If the amount of solute in a solution is increased, what happens to its concentration? | C149: Increases | D149: Double quantitative
A150: 149 | B150: If the volume of water in a solution is increased, what happens to its concentration? | C150: Decreases | D150: Double quantitative
A151: 150 | B151: What is the yield of a chemical reaction? | C151: The amount of useful product | D151: Triple quantitative
A152: 151 | B152: What is the theoretical yield of a chemical reaction? | C152: The yield which you would expect to get in a reaction | D152: Triple quantitative
A153: 152 | B153: What is the percentage yield of a chemical reaction? | C153: The mount of actual product divided by the theoretical yield | D153: Triple quantitative
A154: 153 | B154: A reaction has a yield of _____ and a theoretical yield of _____. Calculate the % yield | D154: Triple quantitative
A155: 154 | B155: A given reaction with _____g of _______ produces _____g of _____. Calcualte the % yield | D155: Triple quantitative
A156: 155 | B156: Why is the % yield almost never 100%? | C156: Reversible reaction, loss of product on spearation, unexpected side reactions | D156: Triple quantitative
A157: 156 | B157: What is atom economy? | C157: The amount of starting material that ends up as useful product | D157: Triple quantitative
A158: 157 | B158: Why is atom economy important? | C158: Economic and sustainability reasons | D158: Triple quantitative
A159: 158 | B159: How is atom economy calculate? | C159: 100 x Mr desired product/Mr of all reactants | D159: Triple quantitative
A160: 159 | B160: Calculate the atom economy of a given reaction and given desired product | D160: Triple quantitative
A161: 160 | B161: What are the two units for concentration? | C161: g/dm^3 and mol/dm^3 | D161: Triple quantitative
A162: 161 | B162: Which formula relates concentration, moles and volume? | C162: concentration = moles/volume | D162: Triple quantitative
A163: 162 | B163: What is the concentration of a solution with ______ moles of solute in _____dm3? | D163: Triple quantitative
A164: 163 | B164: What mass of solute is present in a solution with a concentration of ____mol/dm^3 and volume _____dm^3? | D164: Triple quantitative
A165: 164 | B165: What is the volume of a solution with ____ moles of solute and a concentration of _____moles/dm^3? | D165: Triple quantitative
A166: 165 | B166: _____g of ______ is dissolved in _____dm3 of water. What is its concentration in mol/dm3 | D166: Triple quantitative
...

Sheet Do Now
B2: Do Now
E3: Number of questions: | H3: 5 | K3: Up to question: | M3: 235
B5: =IF(OR(H3=1, H3=2, H3=3, H3=4, H3=5), 1, "") -> 1 | C5: =IF(OR(H3=1, H3=2, H3=3, H3=4, H3=5), 'Do now Qs'!F2, "") -> A given reaction with _____g of _______ produces _____g of _____. Calcualte the % yield
B6: =IF(OR(H3=2, H3=3, H3=4, H3=5), 2, "") -> 2 | C6: =IF(OR(H3=2, H3=3, H3=4, H3=5), 'Do now Qs'!F3, "") -> What is a mixture?
B7: =IF(OR(H3=3, H3=4, H3=5), 3, "") -> 3 | C7: =IF(OR(H3=3, H3=4, H3=5),'Do now Qs'!F4, "") -> How is pH measured?
B8: =IF(OR(H3=4, H3=5), 4, "") -> 4 | C8: =IF(OR(H3=4, H3=5),'Do now Qs'!F5, "") -> Is this process oxidation or reduction? Fe²⁺ → Fe³⁺ + e⁻
B9: =IF(OR(H3=5), 5, "") -> 5 | C9: =IF(OR(H3=5),'Do now Qs'!F6, "") -> What is a concentrated acid?

Sheet Do Now ans
B2: Do Now
E3: Number of questions: | H3: 5
B5: =IF(OR(H3=1, H3=2, H3=3, H3=4, H3=5), 1, "") -> 1 | C5: =IF(OR(H3=1, H3=2, H3=3, H3=4, H3=5), 'Do now Qs'!G2, "") -> 0
B6: =IF(OR(H3=2, H3=3, H3=4, H3=5), 2, "") -> 2 | C6: =IF(OR(H3=2, H3=3, H3=4, H3=5), 'Do now Qs'!G3, "") -> A substance made of more than one thing not chemically bonded together
B7: =IF(OR(H3=3, H3=4, H3=5), 3, "") -> 3 | C7: =IF(OR(H3=3, H3=4, H3=5),'Do now Qs'!G4, "") -> pH is related to the concentration of H⁺ in a solution.
B8: =IF(OR(H3=4, H3=5), 4, "") -> 4 | C8: =IF(OR(H3=4, H3=5),'Do now Qs'!G5, "") -> Oxidation
B9: =IF(OR(H3=5), 5, "") -> 5 | C9: =IF(OR(H3=5),'Do now Qs'!G6, "") -> An acid where there are lots of acid particles in the water.

Sheet Do now r Qs
E1: Question from bank | F1: Question | G1: Answer | M1: 1 | N1: =RAND() -> 0.71096338
B2: Interleaved Questions | M2: 2 | N2: =RAND() -> 0.06043004
A3: =ROW(A1) -> 1 | M3: 3 | N3: =RAND() -> 0.020484574
A4: =1+(ROW(A1)) -> 2 | M4: 4 | N4: =RAND() -> 0.0099105108
M5: 5 | N5: =RAND() -> 0.91791535
M6: 6 | N6: =RAND() -> 0.090937986
B7: Topic Questions | C7: ='Do now r'!M3 -> 80 | D7: ='Do now r'!P3 -> 100 | E7: =INDEX((INDIRECT("m"&C7)):(INDIRECT("m"&D7)),RANK((INDIRECT("n"&C7)),(INDIRECT("n"&C7)):(INDIRECT("n"&D7)))) -> 95 | F7: =VLOOKUP(E7, Questions!A:E, 2, FALSE) -> What is more reactive, lithium or sodium? | G7: =VLOOKUP(E7, Questions!A:E, 3, FALSE) -> Sodium | M7: 7 | N7: =RAND() -> 0.96077367
E8: =INDEX((INDIRECT("m"&C7)):(INDIRECT("m"&D7)),RANK((INDIRECT("n"&C7+1)),(INDIRECT("n"&C7)):(INDIRECT("n"&D7)))) -> 82 | F8: =VLOOKUP(E8, Questions!A:E, 2, FALSE) -> Describe the structure of simple covalent molecules | G8: =VLOOKUP(E8, Questions!A:E, 3, FALSE) -> Strong covalent bonds between atoms, weak forces holding the molecules together | M8: 8 | N8: =RAND() -> 0.2342716
E9: =INDEX((INDIRECT("m"&C7)):(INDIRECT("m"&D7)),RANK((INDIRECT("n"&C7+2)),(INDIRECT("n"&C7)):(INDIRECT("n"&D7)))) -> 96 | F9: =VLOOKUP(E9, Questions!A:E, 2, FALSE) -> What is more reactive, chlorine or bromine? | G9: =VLOOKUP(E9, Questions!A:E, 3, FALSE) -> Chlorine | M9: 9 | N9: =RAND() -> 0.70006638
E10: =INDEX((INDIRECT("m"&C7)):(INDIRECT("m"&D7)),RANK((INDIRECT("n"&C7+3)),(INDIRECT("n"&C7)):(INDIRECT("n"&D7)))) -> 92 | F10: =VLOOKUP(E10, Questions!A:E, 2, FALSE) -> In terms of electrons, what do group 1 elements have in common? | G10: =VLOOKUP(E10, Questions!A:E, 3, FALSE) -> 1 electron in the outer shell | M10: 10 | N10: =RAND() -> 0.40318159
E11: =INDEX((INDIRECT("m"&C7)):(INDIRECT("m"&D7)),RANK((INDIRECT("n"&C7+4)),(INDIRECT("n"&C7)):(INDIRECT("n"&D7)))) -> 88 | F11: =VLOOKUP(E11, Questions!A:E, 2, FALSE) -> Explain why pure metals are soft | G11: =VLOOKUP(E11, Questions!A:E, 3, FALSE) -> Layers of metal ions are free to slide over each other | M11: 11 | N11: =RAND() -> 0.649785
M12: 12 | N12: =RAND() -> 0.24247901
M13: 13 | N13: =RAND() -> 0.097516142
M14: 14 | N14: =RAND() -> 0.38514103
M15: 15 | N15: =RAND() -> 0.44686738
M16: 16 | N16: =RAND() -> 0.53417543
M17: 17 | N17: =RAND() -> 0.6229954
M18: 18 | N18: =RAND() -> 0.26073872
M19: 19 | N19: =RAND() -> 0.080419501
M20: 20 | N20: =RAND() -> 0.83092343
M21: 21 | N21: =RAND() -> 0.66326424
M22: 22 | N22: =RAND() -> 0.33458396
M23: 23 | N23: =RAND() -> 0.76605592
... M516: 516 | N516: =RAND() -> 0.6399812

Sheet Do now r
B2: Do Now
E3: Number of questions: | H3: 5 | K3: From Q | M3: 80 | N3: To Q | P3: 100
B5: =IF(OR(H3=1, H3=2, H3=3, H3=4, H3=5), 1, "") -> 1 | C5: =IF(OR(H3=1, H3=2, H3=3, H3=4, H3=5), 'Do now r Qs'!F7, "") -> What is more reactive, lithium or sodium?
B6: =IF(OR(H3=2, H3=3, H3=4, H3=5), 2, "") -> 2 | C6: =IF(OR(H3=2, H3=3, H3=4, H3=5), 'Do now r Qs'!F8, "") -> Describe the structure of simple covalent molecules
B7: =IF(OR(H3=3, H3=4, H3=5), 3, "") -> 3 | C7: =IF(OR(H3=3, H3=4, H3=5),'Do now r Qs'!F9, "") -> What is more reactive, chlorine or bromine?
B8: =IF(OR(H3=4, H3=5), 4, "") -> 4 | C8: =IF(OR(H3=4, H3=5),'Do now r Qs'!F10, "") -> In terms of electrons, what do group 1 elements have in common?
B9: =IF(OR(H3=5), 5, "") -> 5 | C9: =IF(OR(H3=5),'Do now r Qs'!F11, "") -> Explain why pure metals are soft

Sheet Do now r ans
B2: Do Now
E3: Number of questions: | H3: 5
B5: =IF(OR(H3=1, H3=2, H3=3, H3=4, H3=5), 1, "") -> 1 | C5: =IF(OR(H3=1, H3=2, H3=3, H3=4, H3=5), 'Do now r Qs'!G7, "") -> Sodium
B6: =IF(OR(H3=2, H3=3, H3=4, H3=5), 2, "") -> 2 | C6: =IF(OR(H3=2, H3=3, H3=4, H3=5), 'Do now r Qs'!G8, "") -> Strong covalent bonds between atoms, weak forces holding the molecules together
B7: =IF(OR(H3=3, H3=4, H3=5), 3, "") -> 3 | C7: =IF(OR(H3=3, H3=4, H3=5),'Do now r Qs'!G9, "") -> Chlorine
B8: =IF(OR(H3=4, H3=5), 4, "") -> 4 | C8: =IF(OR(H3=4, H3=5),'Do now r Qs'!G10, "") -> 1 electron in the outer shell
B9: =IF(OR(H3=5), 5, "") -> 5 | C9: =IF(OR(H3=5),'Do now r Qs'!G11, "") -> Layers of metal ions are free to slide over each other

Sheet Do now Qs
E1: Question from bank | F1: Question | G1: Answer | M1: 1 | N1: =RAND() -> 0.3598654
B2: Interleaved Questions | D2: ='Do Now'!M3 -> 235 | E2: =INDEX(M$1:(INDIRECT("m"&D$2)),RANK(N1,N$1:(INDIRECT("n"&D$2)))) -> 154 | F2: =VLOOKUP(E2, Questions!A:E, 2, FALSE) -> A given reaction with _____g of _______ produces _____g of _____. Calcualte the % yield | G2: =VLOOKUP(E2, Questions!A:E, 3, FALSE) -> 0 | M2: 2 | N2: =RAND() -> 0.98706573
A3: =ROW(A1) -> 1 | E3: =INDEX(M$1:(INDIRECT("m"&D$2)),RANK(N2,N$1:(INDIRECT("n"&D$2)))) -> 5 | F3: =VLOOKUP(E3, Questions!A:E, 2, FALSE) -> What is a mixture? | G3: =VLOOKUP(E3, Questions!A:E, 3, FALSE) -> A substance made of more than one thing not chemically bonded together | M3: 3 | N3: =RAND() -> 0.12968637
A4: =1+(ROW(A1)) -> 2 | E4: =INDEX(M$1:(INDIRECT("m"&D$2)),RANK(N3,N$1:(INDIRECT("n"&D$2)))) -> 213 | F4: =VLOOKUP(E4, Questions!A:E, 2, FALSE) -> How is pH measured? | G4: =VLOOKUP(E4, Questions!A:E, 3, FALSE) -> pH is related to the concentration of H⁺ in a solution. | M4: 4 | N4: =RAND() -> 0.020343003
E5: =INDEX(M$1:(INDIRECT("m"&D$2)),RANK(N4,N$1:(INDIRECT("n"&D$2)))) -> 229 | F5: =VLOOKUP(E5, Questions!A:E, 2, FALSE) -> Is this process oxidation or reduction? Fe²⁺ → Fe³⁺ + e⁻ | G5: =VLOOKUP(E5, Questions!A:E, 3, FALSE) -> Oxidation | M5: 5 | N5: =RAND() -> 0.13634734
E6: =INDEX(M$1:(INDIRECT("m"&D$2)),RANK(N5,N$1:(INDIRECT("n"&D$2)))) -> 211 | F6: =VLOOKUP(E6, Questions!A:E, 2, FALSE) -> What is a concentrated acid? | G6: =VLOOKUP(E6, Questions!A:E, 3, FALSE) -> An acid where there are lots of acid particles in the water. | M6: 6 | N6: =RAND() -> 0.3696898
B7: Topic Questions | M7: 7 | N7: =RAND() -> 0.56817721
M8: 8 | N8: =RAND() -> 0.85578677
M9: 9 | N9: =RAND() -> 0.89155505
M10: 10 | N10: =RAND() -> 0.91432346
M11: 11 | N11: =RAND() -> 0.87026439
M12: 12 | N12: =RAND() -> 0.18963724
M13: 13 | N13: =RAND() -> 0.67854479
M14: 14 | N14: =RAND() -> 0.25101216
M15: 15 | N15: =RAND() -> 0.91500569
M16: 16 | N16: =RAND() -> 0.7957195
M17: 17 | N17: =RAND() -> 0.59065939
M18: 18 | N18: =RAND() -> 0.2665173
M19: 19 | N19: =RAND() -> 0.017010601
... M516: 516 | N516: =RAND() -> 0.65888816

Sheet For board 10
A1: 1 | B1: ='Do now r Qs'!F2 -> 0
A2: 2 | B2: ='Do now r Qs'!F3 -> 0
A3: 3 | B3: ='Do now r Qs'!F4 -> 0
A4: 4 | B4: ='Do now r Qs'!F5 -> 0
A5: 5 | B5: ='Do now r Qs'!F6 -> 0
A6: 6 | B6: ='Do now r Qs'!F7 -> What is more reactive, lithium or sodium?
A7: 7 | B7: ='Do now r Qs'!F8 -> Describe the structure of simple covalent molecules
A8: 8 | B8: ='Do now r Qs'!F9 -> What is more reactive, chlorine or bromine?
A9: 9 | B9: ='Do now r Qs'!F10 -> In terms of electrons, what do group 1 elements have in common?
A10: 10 | B10: ='Do now r Qs'!F11 -> Explain why pure metals are soft

Sheet Quiz 8
E1: Question from bank | F1: Question | G1: Answer | M1: 1 | N1: =RAND() -> 0.027971478
B2: Interleaved Questions | D2: 229 | E2: =INDEX(M$1:(INDIRECT("m"&D$2)),RANK(N1,N$1:(INDIRECT("n"&D$2)))) -> 223 | F2: =VLOOKUP(E2, Questions!A:E, 2, FALSE) -> What is the formula of magnesium fluoride? | G2: =VLOOKUP(E2, Questions!A:E, 3, FALSE) -> MgF₂ | M2: 2 | N2: =RAND() -> 0.34866769
E3: =INDEX(M$1:(INDIRECT("m"&D$2)),RANK(N2,N$1:(INDIRECT("n"&D$2)))) -> 146 | F3: =VLOOKUP(E3, Questions!A:E, 2, FALSE) -> What mass of solute is present in a solution with a concentration of ____g/dm^3 and volume _____dm^3? | G3: =VLOOKUP(E3, Questions!A:E, 3, FALSE) -> 0 | M3: 3 | N3: =RAND() -> 0.71816022
E4: =INDEX(M$1:(INDIRECT("m"&D$2)),RANK(N3,N$1:(INDIRECT("n"&D$2)))) -> 67 | F4: =VLOOKUP(E4, Questions!A:E, 2, FALSE) -> Sodium fluoride is soluble. Explain what the easiest way for it to conduct electricity is | G4: =VLOOKUP(E4, Questions!A:E, 3, FALSE) -> Dissolve it in water because this does not require high temperatures | M4: 4 | N4: =RAND() -> 0.51898648
E5: =INDEX(M$1:(INDIRECT("m"&D$2)),RANK(N4,N$1:(INDIRECT("n"&D$2)))) -> 106 | F5: =VLOOKUP(E5, Questions!A:E, 2, FALSE) -> Balance the equation: K + H₂O → KOH + H₂ | G5: =VLOOKUP(E5, Questions!A:E, 3, FALSE) -> 2K + H₂ → KOH + H₂ | M5: 5 | N5: =RAND() -> 0.73196841
B6: Topic Questions | C6: 1 | D6: 4 | E6: =INDEX((INDIRECT("m"&C6)):(INDIRECT("m"&D6)),RANK((INDIRECT("n"&C6)),(INDIRECT("n"&C6)):(INDIRECT("n"&D6)))) -> 4 | F6: =VLOOKUP(E6, Questions!A:E, 2, FALSE) -> What isa molecule? | G6: =VLOOKUP(E6, Questions!A:E, 3, FALSE) -> A substance made of more than one atom chemically bonded together (can be atoms of the same type!) | M6: 6 | N6: =RAND() -> 0.19307466
E7: =INDEX((INDIRECT("m"&C6)):(INDIRECT("m"&D6)),RANK((INDIRECT("n"&C6+1)),(INDIRECT("n"&C6)):(INDIRECT("n"&D6)))) -> 3 | F7: =VLOOKUP(E7, Questions!A:E, 2, FALSE) -> What is a compound? | G7: =VLOOKUP(E7, Questions!A:E, 3, FALSE) -> A substance made of two or more different atoms chemically bonded together | M7: 7 | N7: =RAND() -> 0.94675613
E8: =INDEX((INDIRECT("m"&C6)):(INDIRECT("m"&D6)),RANK((INDIRECT("n"&C6+2)),(INDIRECT("n"&C6)):(INDIRECT("n"&D6)))) -> 1 | F8: =VLOOKUP(E8, Questions!A:E, 2, FALSE) -> What is an atom? | G8: =VLOOKUP(E8, Questions!A:E, 3, FALSE) -> The smallest part of an element that can still be recognised as that element | M8: 8 | N8: =RAND() -> 0.083798196
E9: =INDEX((INDIRECT("m"&C6)):(INDIRECT("m"&D6)),RANK((INDIRECT("n"&C6+3)),(INDIRECT("n"&C6)):(INDIRECT("n"&D6)))) -> 2 | F9: =VLOOKUP(E9, Questions!A:E, 2, FALSE) -> What is an element? | G9: =VLOOKUP(E9, Questions!A:E, 3, FALSE) -> A substance made of only one type of atom | M9: 9 | N9: =RAND() -> 0.33079239
M10: 10 | N10: =RAND() -> 0.88156321
M11: 11 | N11: =RAND() -> 0.21291428
M12: 12 | N12: =RAND() -> 0.35573568
M13: 13 | N13: =RAND() -> 0.448459
M14: 14 | N14: =RAND() -> 0.44475052
M15: 15 | N15: =RAND() -> 0.2698399
M16: 16 | N16: =RAND() -> 0.21698071
M17: 17 | N17: =RAND() -> 0.16511245
M18: 18 | N18: =RAND() -> 0.14240186
M19: 19 | N19: =RAND() -> 0.066274398
M20: 20 | N20: =RAND() -> 0.097683567
M21: 21 | N21: =RAND() -> 0.2050042
... M516: 516 | N516: =RAND() -> 0.90995854

Sheet For board 8
A1: 1 | B1: ='Quiz 8'!F2 -> What is the formula of magnesium fluoride?
A2: 2 | B2: ='Quiz 8'!F3 -> What mass of solute is present in a solution with a concentration of ____g/dm^3 and volume _____dm^3?
A3: 3 | B3: ='Quiz 8'!F4 -> Sodium fluoride is soluble. Explain what the easiest way for it to conduct electricity is
A4: 4 | B4: ='Quiz 8'!F5 -> Balance the equation: K + H₂O → KOH + H₂
A5: 5 | B5: ='Quiz 8'!F6 -> What isa molecule?
A6: 6 | B6: ='Quiz 8'!F7 -> What is a compound?
A7: 7 | B7: ='Quiz 8'!F8 -> What is an atom?
A8: 8 | B8: ='Quiz 8'!F9 -> What is an element?

Sheet Quiz 6
E1: Question from bank | F1: Question | G1: Answer | M1: 1 | N1: =RAND() -> 0.46549971
B2: Interleaved Questions | D2: 229 | E2: =INDEX(M$1:(INDIRECT("m"&D$2)),RANK(N1,N$1:(INDIRECT("n"&D$2)))) -> 128 | F2: =VLOOKUP(E2, Questions!A:E, 2, FALSE) -> When a metal forms a metal oxide, why does the mass increase? | G2: =VLOOKUP(E2, Questions!A:E, 3, FALSE) -> Because oxygen atoms have been added | M2: 2 | N2: =RAND() -> 0.62014093
E3: =INDEX(M$1:(INDIRECT("m"&D$2)),RANK(N2,N$1:(INDIRECT("n"&D$2)))) -> 89 | F3: =VLOOKUP(E3, Questions!A:E, 2, FALSE) -> What is an alloy? | G3: =VLOOKUP(E3, Questions!A:E, 3, FALSE) -> A mixture of two or more elements, at least one of which is a metal | M3: 3 | N3: =RAND() -> 0.53434355
E4: =INDEX(M$1:(INDIRECT("m"&D$2)),RANK(N3,N$1:(INDIRECT("n"&D$2)))) -> 110 | F4: =VLOOKUP(E4, Questions!A:E, 2, FALSE) -> What is a displacement reaction? | G4: =VLOOKUP(E4, Questions!A:E, 3, FALSE) -> A reaction in which a more reactive element takes the place of a less reactive element in a compound | M4: 4 | N4: =RAND() -> 0.23024515
B5: Topic Questions | C5: 1 | D5: 3 | E5: =INDEX((INDIRECT("m"&C5)):(INDIRECT("m"&D5)),RANK((INDIRECT("n"&C5)),(INDIRECT("n"&C5)):(INDIRECT("n"&D5)))) -> 3 | F5: =VLOOKUP(E5, Questions!A:E, 2, FALSE) -> What is a compound? | G5: =VLOOKUP(E5, Questions!A:E, 3, FALSE) -> A substance made of two or more different atoms chemically bonded together | M5: 5 | N5: =RAND() -> 0.56000341
E6: =INDEX((INDIRECT("m"&C5)):(INDIRECT("m"&D5)),RANK((INDIRECT("n"&C5+1)),(INDIRECT("n"&C5)):(INDIRECT("n"&D5)))) -> 1 | F6: =VLOOKUP(E6, Questions!A:E, 2, FALSE) -> What is an atom? | G6: =VLOOKUP(E6, Questions!A:E, 3, FALSE) -> The smallest part of an element that can still be recognised as that element | M6: 6 | N6: =RAND() -> 0.52516421
E7: =INDEX((INDIRECT("m"&C5)):(INDIRECT("m"&D5)),RANK((INDIRECT("n"&C5+2)),(INDIRECT("n"&C5)):(INDIRECT("n"&D5)))) -> 2 | F7: =VLOOKUP(E7, Questions!A:E, 2, FALSE) -> What is an element? | G7: =VLOOKUP(E7, Questions!A:E, 3, FALSE) -> A substance made of only one type of atom | M7: 7 | N7: =RAND() -> 0.11362143
M8: 8 | N8: =RAND() -> 0.7699959
M9: 9 | N9: =RAND() -> 0.28937696
M10: 10 | N10: =RAND() -> 0.43340684
M11: 11 | N11: =RAND() -> 0.79693176
M12: 12 | N12: =RAND() -> 0.97510128
M13: 13 | N13: =RAND() -> 0.75051751
M14: 14 | N14: =RAND() -> 0.97107494
M15: 15 | N15: =RAND() -> 0.8107086
M16: 16 | N16: =RAND() -> 0.29223433
M17: 17 | N17: =RAND() -> 0.39438609
M18: 18 | N18: =RAND() -> 0.28250038
M19: 19 | N19: =RAND() -> 0.67665126
... M516: 516 | N516: =RAND() -> 0.1145136

Sheet For board 6
A1: 1 | B1: ='Quiz 6'!F2 -> When a metal forms a metal oxide, why does the mass increase?
A2: 2 | B2: ='Quiz 6'!F3 -> What is an alloy?
A3: 3 | B3: ='Quiz 6'!F4 -> What is a displacement reaction?
A4: 4 | B4: ='Quiz 6'!F5 -> What is a compound?
A5: 5 | B5: ='Quiz 6'!F6 -> What is an atom?
A6: 6 | B6: ='Quiz 6'!F7 -> What is an element?
