Workbook

Sheet Questions
A1: Number | B1: Question | C1: Answer | D1: Topic | E1: Sub-topic
A2: 1
A3: 2
A4: 3
A5: 4
A6: 5
A7: 6
A8: 7
A9: 8
A10: 9
A11: 10
A12: 11
A13: 12
... A408: 407

Sheet Do Now
B2: Do Now
E3: Number of questions: | H3: 5 | K3: Up to question: | M3: 65
B5: =IF(OR(H3=1, H3=2, H3=3, H3=4, H3=5), 1, "") -> 1 | C5: =IF(OR(H3=1, H3=2, H3=3, H3=4, H3=5), 'Do now Qs'!F2, "") -> 0
B6: =IF(OR(H3=2, H3=3, H3=4, H3=5), 2, "") -> 2 | C6: =IF(OR(H3=2, H3=3, H3=4, H3=5), 'Do now Qs'!F3, "") -> 0
B7: =IF(OR(H3=3, H3=4, H3=5), 3, "") -> 3 | C7: =IF(OR(H3=3, H3=4, H3=5),'Do now Qs'!F4, "") -> 0
B8: =IF(OR(H3=4, H3=5), 4, "") -> 4 | C8: =IF(OR(H3=4, H3=5),'Do now Qs'!F5, "") -> 0
B9: =IF(OR(H3=5), 5, "") -> 5 | C9: =IF(OR(H3=5),'Do now Qs'!F6, "") -> 0

Sheet Do Now ans
B2: Do Now
E3: Number of questions: | H3: 5
B5: =IF(OR(H3=1, H3=2, H3=3, H3=4, H3=5), 1, "") -> 1 | C5: =IF(OR(H3=1, H3=2, H3=3, H3=4, H3=5), 'Do now Qs'!G2, "") -> 0
B6: =IF(OR(H3=2, H3=3, H3=4, H3=5), 2, "") -> 2 | C6: =IF(OR(H3=2, H3=3, H3=4, H3=5), 'Do now Qs'!G3, "") -> 0
B7: =IF(OR(H3=3, H3=4, H3=5), 3, "") -> 3 | C7: =IF(OR(H3=3, H3=4, H3=5),'Do now Qs'!G4, "") -> 0
B8: =IF(OR(H3=4, H3=5), 4, "") -> 4 | C8: =IF(OR(H3=4, H3=5),'Do now Qs'!G5, "") -> 0
B9: =IF(OR(H3=5), 5, "") -> 5 | C9: =IF(OR(H3=5),'Do now Qs'!G6, "") -> 0

Sheet Do now r
B2: Do Now
E3: Number of questions: | H3: 5 | K3: From Q | M3: 1 | N3: To Q | P3: 65
B5: =IF(OR(H3=1, H3=2, H3=3, H3=4, H3=5), 1, "") -> 1 | C5: =IF(OR(H3=1, H3=2, H3=3, H3=4, H3=5), 'Do now r Qs'!F7, "") -> 0
B6: =IF(OR(H3=2, H3=3, H3=4, H3=5), 2, "") -> 2 | C6: =IF(OR(H3=2, H3=3, H3=4, H3=5), 'Do now r Qs'!F8, "") -> 0
B7: =IF(OR(H3=3, H3=4, H3=5), 3, "") -> 3 | C7: =IF(OR(H3=3, H3=4, H3=5),'Do now r Qs'!F9, "") -> 0
B8: =IF(OR(H3=4, H3=5), 4, "") -> 4 | C8: =IF(OR(H3=4, H3=5),'Do now r Qs'!F10, "") -> 0
B9: =IF(OR(H3=5), 5, "") -> 5 | C9: =IF(OR(H3=5),'Do now r Qs'!F11, "") -> 0

Sheet Do now r ans
B2: Do Now
E3: Number of questions: | H3: 5
B5: =IF(OR(H3=1, H3=2, H3=3, H3=4, H3=5), 1, "") -> 1 | C5: =IF(OR(H3=1, H3=2, H3=3, H3=4, H3=5), 'Do now r Qs'!G7, "") -> 0
B6: =IF(OR(H3=2, H3=3, H3=4, H3=5), 2, "") -> 2 | C6: =IF(OR(H3=2, H3=3, H3=4, H3=5), 'Do now r Qs'!G8, "") -> 0
B7: =IF(OR(H3=3, H3=4, H3=5), 3, "") -> 3 | C7: =IF(OR(H3=3, H3=4, H3=5),'Do now r Qs'!G9, "") -> 0
B8: =IF(OR(H3=4, H3=5), 4, "") -> 4 | C8: =IF(OR(H3=4, H3=5),'Do now r Qs'!G10, "") -> 0
B9: =IF(OR(H3=5), 5, "") -> 5 | C9: =IF(OR(H3=5),'Do now r Qs'!G11, "") -> 0

Sheet Do now r Qs
E1: Question from bank | F1: Question | G1: Answer | M1: 1 | N1: =RAND() -> 0.57876214
B2: Interleaved Questions | M2: 2 | N2: =RAND() -> 0.83390639
A3: =ROW(A1) -> 1 | M3: 3 | N3: =RAND() -> 0.45516332
A4: =1+(ROW(A1)) -> 2 | M4: 4 | N4: =RAND() -> 0.09749235
M5: 5 | N5: =RAND() -> 0.31279591
M6: 6 | N6: =RAND() -> 0.59605325
B7: Topic Questions | C7: ='Do now r'!M3 -> 1 | D7: ='Do now r'!P3 -> 65 | E7: =INDEX((INDIRECT("m"&C7)):(INDIRECT("m"&D7)),RANK((INDIRECT("n"&C7)),(INDIRECT("n"&C7)):(INDIRECT("n"&D7)))) -> 22 | F7: =VLOOKUP(E7, Questions!A:E, 2, FALSE) -> 0 | G7: =VLOOKUP(E7, Questions!A:E, 3, FALSE) -> 0 | M7: 7 | N7: =RAND() -> 0.56599779
E8: =INDEX((INDIRECT("m"&C7)):(INDIRECT("m"&D7)),RANK((INDIRECT("n"&C7+1)),(INDIRECT("n"&C7)):(INDIRECT("n"&D7)))) -> 6 | F8: =VLOOKUP(E8, Questions!A:E, 2, FALSE) -> 0 | G8: =VLOOKUP(E8, Questions!A:E, 3, FALSE) -> 0 | M8: 8 | N8: =RAND() -> 0.72586099
E9: =INDEX((INDIRECT("m"&C7)):(INDIRECT("m"&D7)),RANK((INDIRECT("n"&C7+2)),(INDIRECT("n"&C7)):(INDIRECT("n"&D7)))) -> 32 | F9: =VLOOKUP(E9, Questions!A:E, 2, FALSE) -> 0 | G9: =VLOOKUP(E9, Questions!A:E, 3, FALSE) -> 0 | M9: 9 | N9: =RAND() -> 0.61793272
E10: =INDEX((INDIRECT("m"&C7)):(INDIRECT("m"&D7)),RANK((INDIRECT("n"&C7+3)),(INDIRECT("n"&C7)):(INDIRECT("n"&D7)))) -> 57 | F10: =VLOOKUP(E10, Questions!A:E, 2, FALSE) -> 0 | G10: =VLOOKUP(E10, Questions!A:E, 3, FALSE) -> 0 | M10: 10 | N10: =RAND() -> 0.23115363
E11: =INDEX((INDIRECT("m"&C7)):(INDIRECT("m"&D7)),RANK((INDIRECT("n"&C7+4)),(INDIRECT("n"&C7)):(INDIRECT("n"&D7)))) -> 44 | F11: =VLOOKUP(E11, Questions!A:E, 2, FALSE) -> 0 | G11: =VLOOKUP(E11, Questions!A:E, 3, FALSE) -> 0 | M11: 11 | N11: =RAND() -> 0.48177053
E12: =INDEX((INDIRECT("m"&C7)):(INDIRECT("m"&D7)),RANK((INDIRECT("n"&C7+5)),(INDIRECT("n"&C7)):(INDIRECT("n"&D7)))) -> 19 | F12: =VLOOKUP(E12, Questions!A:E, 2, FALSE) -> 0 | G12: =VLOOKUP(E12, Questions!A:E, 3, FALSE) -> 0 | M12: 12 | N12: =RAND() -> 0.56878083
E13: =INDEX((INDIRECT("m"&C7)):(INDIRECT("m"&D7)),RANK((INDIRECT("n"&C7+6)),(INDIRECT("n"&C7)):(INDIRECT("n"&D7)))) -> 24 | F13: =VLOOKUP(E13, Questions!A:E, 2, FALSE) -> 0 | G13: =VLOOKUP(E13, Questions!A:E, 3, FALSE) -> 0 | M13: 13 | N13: =RAND() -> 0.17526391
E14: =INDEX((INDIRECT("m"&C7)):(INDIRECT("m"&D7)),RANK((INDIRECT("n"&C7+7)),(INDIRECT("n"&C7)):(INDIRECT("n"&D7)))) -> 14 | F14: =VLOOKUP(E14, Questions!A:E, 2, FALSE) -> 0 | G14: =VLOOKUP(E14, Questions!A:E, 3, FALSE) -> 0 | M14: 14 | N14: =RAND() -> 0.77811082
E15: =INDEX((INDIRECT("m"&C7)):(INDIRECT("m"&D7)),RANK((INDIRECT("n"&C7+8)),(INDIRECT("n"&C7)):(INDIRECT("n"&D7)))) -> 17 | F15: =VLOOKUP(E15, Questions!A:E, 2, FALSE) -> 0 | G15: =VLOOKUP(E15, Questions!A:E, 3, FALSE) -> 0 | M15: 15 | N15: =RAND() -> 0.73657924
E16: =INDEX((INDIRECT("m"&C7)):(INDIRECT("m"&D7)),RANK((INDIRECT("n"&C7+9)),(INDIRECT("n"&C7)):(INDIRECT("n"&D7)))) -> 49 | F16: =VLOOKUP(E16, Questions!A:E, 2, FALSE) -> 0 | G16: =VLOOKUP(E16, Questions!A:E, 3, FALSE) -> 0 | M16: 16 | N16: =RAND() -> 0.42028424
E17: =INDEX((INDIRECT("m"&C7)):(INDIRECT("m"&D7)),RANK((INDIRECT("n"&C7+10)),(INDIRECT("n"&C7)):(INDIRECT("n"&D7)))) -> 30 | F17: =VLOOKUP(E17, Questions!A:E, 2, FALSE) -> 0 | G17: =VLOOKUP(E17, Questions!A:E, 3, FALSE) -> 0 | M17: 17 | N17: =RAND() -> 0.0064432569
E18: =INDEX((INDIRECT("m"&C7)):(INDIRECT("m"&D7)),RANK((INDIRECT("n"&C7+11)),(INDIRECT("n"&C7)):(INDIRECT("n"&D7)))) -> 23 | F18: =VLOOKUP(E18, Questions!A:E, 2, FALSE) -> 0 | G18: =VLOOKUP(E18, Questions!A:E, 3, FALSE) -> 0 | M18: 18 | N18: =RAND() -> 0.7324766
E19: =INDEX((INDIRECT("m"&C7)):(INDIRECT("m"&D7)),RANK((INDIRECT("n"&C7+12)),(INDIRECT("n"&C7)):(INDIRECT("n"&D7)))) -> 54 | F19: =VLOOKUP(E19, Questions!A:E, 2, FALSE) -> 0 | G19: =VLOOKUP(E19, Questions!A:E, 3, FALSE) -> 0 | M19: 19 | N19: =RAND() -> 0.58331372
E20: =INDEX((INDIRECT("m"&C7)):(INDIRECT("m"&D7)),RANK((INDIRECT("n"&C7+13)),(INDIRECT("n"&C7)):(INDIRECT("n"&D7)))) -> 8 | F20: =VLOOKUP(E20, Questions!A:E, 2, FALSE) -> 0 | G20: =VLOOKUP(E20, Questions!A:E, 3, FALSE) -> 0 | M20: 20 | N20: =RAND() -> 0.79246555
E21: =INDEX((INDIRECT("m"&C7)):(INDIRECT("m"&D7)),RANK((INDIRECT("n"&C7+14)),(INDIRECT("n"&C7)):(INDIRECT("n"&D7)))) -> 10 | F21: =VLOOKUP(E21, Questions!A:E, 2, FALSE) -> 0 | G21: =VLOOKUP(E21, Questions!A:E, 3, FALSE) -> 0 | M21: 21 | N21: =RAND() -> 0.60668606
E22: =INDEX((INDIRECT("m"&C7)):(INDIRECT("m"&D7)),RANK((INDIRECT("n"&C7+15)),(INDIRECT("n"&C7)):(INDIRECT("n"&D7)))) -> 34 | F22: =VLOOKUP(E22, Questions!A:E, 2, FALSE) -> 0 | G22: =VLOOKUP(E22, Questions!A:E, 3, FALSE) -> 0 | M22: 22 | N22: =RAND() -> 0.071106336
E23: =INDEX((INDIRECT("m"&C7)):(INDIRECT("m"&D7)),RANK((INDIRECT("n"&C7+16)),(INDIRECT("n"&C7)):(INDIRECT("n"&D7)))) -> 65 | F23: =VLOOKUP(E23, Questions!A:E, 2, FALSE) -> 0 | G23: =VLOOKUP(E23, Questions!A:E, 3, FALSE) -> 0 | M23: 23 | N23: =RAND() -> 0.026752131
E24: =INDEX((INDIRECT("m"&C7)):(INDIRECT("m"&D7)),RANK((INDIRECT("n"&C7+17)),(INDIRECT("n"&C7)):(INDIRECT("n"&D7)))) -> 11 | F24: =VLOOKUP(E24, Questions!A:E, 2, FALSE) -> 0 | G24: =VLOOKUP(E24, Questions!A:E, 3, FALSE) -> 0 | M24: 24 | N24: =RAND() -> 0.52477581
E25: =INDEX((INDIRECT("m"&C7)):(INDIRECT("m"&D7)),RANK((INDIRECT("n"&C7+18)),(INDIRECT("n"&C7)):(INDIRECT("n"&D7)))) -> 21 | F25: =VLOOKUP(E25, Questions!A:E, 2, FALSE) -> 0 | G25: =VLOOKUP(E25, Questions!A:E, 3, FALSE) -> 0 | M25: 25 | N25: =RAND() -> 0.074573827
E26: =INDEX((INDIRECT("m"&C7)):(INDIRECT("m"&D7)),RANK((INDIRECT("n"&C7+19)),(INDIRECT("n"&C7)):(INDIRECT("n"&D7)))) -> 7 | F26: =VLOOKUP(E26, Questions!A:E, 2, FALSE) -> 0 | G26: =VLOOKUP(E26, Questions!A:E, 3, FALSE) -> 0 | M26: 26 | N26: =RAND() -> 0.52602612
E27: =INDEX((INDIRECT("m"&C7)):(INDIRECT("m"&D7)),RANK((INDIRECT("n"&C7+20)),(INDIRECT("n"&C7)):(INDIRECT("n"&D7)))) -> 18 | F27: =VLOOKUP(E27, Questions!A:E, 2, FALSE) -> 0 | G27: =VLOOKUP(E27, Questions!A:E, 3, FALSE) -> 0 | M27: 27 | N27: =RAND() -> 0.51091463
E28: =INDEX((INDIRECT("m"&C7)):(INDIRECT("m"&D7)),RANK((INDIRECT("n"&C7+21)),(INDIRECT("n"&C7)):(INDIRECT("n"&D7)))) -> 62 | F28: =VLOOKUP(E28, Questions!A:E, 2, FALSE) -> 0 | G28: =VLOOKUP(E28, Questions!A:E, 3, FALSE) -> 0 | M28: 28 | N28: =RAND() -> 0.84689143
E29: =INDEX((INDIRECT("m"&C7)):(INDIRECT("m"&D7)),RANK((INDIRECT("n"&C7+22)),(INDIRECT("n"&C7)):(INDIRECT("n"&D7)))) -> 63 | F29: =VLOOKUP(E29, Questions!A:E, 2, FALSE) -> 0 | G29: =VLOOKUP(E29, Questions!A:E, 3, FALSE) -> 0 | M29: 29 | N29: =RAND() -> 0.38852052
E30: =INDEX((INDIRECT("m"&C7)):(INDIRECT("m"&D7)),RANK((INDIRECT("n"&C7+23)),(INDIRECT("n"&C7)):(INDIRECT("n"&D7)))) -> 27 | F30: =VLOOKUP(E30, Questions!A:E, 2, FALSE) -> 0 | G30: =VLOOKUP(E30, Questions!A:E, 3, FALSE) -> 0 | M30: 30 | N30: =RAND() -> 0.32485101
E31: =INDEX((INDIRECT("m"&C7)):(INDIRECT("m"&D7)),RANK((INDIRECT("n"&C7+24)),(INDIRECT("n"&C7)):(INDIRECT("n"&D7)))) -> 61 | F31: =VLOOKUP(E31, Questions!A:E, 2, FALSE) -> 0 | G31: =VLOOKUP(E31, Questions!A:E, 3, FALSE) -> 0 | M31: 31 | N31: =RAND() -> 0.59524511
E32: =INDEX((INDIRECT("m"&C7)):(INDIRECT("m"&D7)),RANK((INDIRECT("n"&C7+25)),(INDIRECT("n"&C7)):(INDIRECT("n"&D7)))) -> 26 | F32: =VLOOKUP(E32, Questions!A:E, 2, FALSE) -> 0 | G32: =VLOOKUP(E32, Questions!A:E, 3, FALSE) -> 0 | M32: 32 | N32: =RAND() -> 0.64127332
E33: =INDEX((INDIRECT("m"&C7)):(INDIRECT("m"&D7)),RANK((INDIRECT("n"&C7+26)),(INDIRECT("n"&C7)):(INDIRECT("n"&D7)))) -> 29 | F33: =VLOOKUP(E33, Questions!A:E, 2, FALSE) -> 0 | G33: =VLOOKUP(E33, Questions!A:E, 3, FALSE) -> 0 | M33: 33 | N33: =RAND() -> 0.090565638
E34: =INDEX((INDIRECT("m"&C7)):(INDIRECT("m"&D7)),RANK((INDIRECT("n"&C7+27)),(INDIRECT("n"&C7)):(INDIRECT("n"&D7)))) -> 5 | F34: =VLOOKUP(E34, Questions!A:E, 2, FALSE) -> 0 | G34: =VLOOKUP(E34, Questions!A:E, 3, FALSE) -> 0 | M34: 34 | N34: =RAND() -> 0.30857662
E35: =INDEX((INDIRECT("m"&C7)):(INDIRECT("m"&D7)),RANK((INDIRECT("n"&C7+28)),(INDIRECT("n"&C7)):(INDIRECT("n"&D7)))) -> 39 | F35: =VLOOKUP(E35, Questions!A:E, 2, FALSE) -> 0 | G35: =VLOOKUP(E35, Questions!A:E, 3, FALSE) -> 0 | M35: 35 | N35: =RAND() -> 0.73035697
E36: =INDEX((INDIRECT("m"&C7)):(INDIRECT("m"&D7)),RANK((INDIRECT("n"&C7+29)),(INDIRECT("n"&C7)):(INDIRECT("n"&D7)))) -> 43 | F36: =VLOOKUP(E36, Questions!A:E, 2, FALSE) -> 0 | G36: =VLOOKUP(E36, Questions!A:E, 3, FALSE) -> 0 | M36: 36 | N36: =RAND() -> 0.95160151
M37: 37 | N37: =RAND() -> 0.34318838
M38: 38 | N38: =RAND() -> 0.36086577
M39: 39 | N39: =RAND() -> 0.096508324
M40: 40 | N40: =RAND() -> 0.42633054
M41: 41 | N41: =RAND() -> 0.10158205
M42: 42 | N42: =RAND() -> 0.25585344
M43: 43 | N43: =RAND() -> 0.08071284
M44: 44 | N44: =RAND() -> 0.46511007
M45: 45 | N45: =RAND() -> 0.24722448
M46: 46 | N46: =RAND() -> 0.40263587
M47: 47 | N47: =RAND() -> 0.41925337
M48: 48 | N48: =RAND() -> 0.39159709
... M516: 516 | N516: =RAND() -> 0.86185745

Sheet Pen and paper
B1: Pen and paper mini-quiz | C1: Name:
A3: 1 | B3: ='Do now r Qs'!F7 -> 0 | F3: Use the Do Now R tab to set a range for this quiz. On this tab, select the questions you want to print, then in the print page make sure it says "print current selection" and "fit all columns on one page" hey presto you're cover lesson is sorted.
A4: 2 | B4: ='Do now r Qs'!F8 -> 0
A5: 3 | B5: ='Do now r Qs'!F9 -> 0
A6: 4 | B6: ='Do now r Qs'!F10 -> 0
A7: 5 | B7: ='Do now r Qs'!F11 -> 0
A8: 6 | B8: ='Do now r Qs'!F12 -> 0
A9: 7 | B9: ='Do now r Qs'!F13 -> 0
A10: 8 | B10: ='Do now r Qs'!F14 -> 0
A11: 9 | B11: ='Do now r Qs'!F15 -> 0
A12: 10 | B12: ='Do now r Qs'!F16 -> 0
A13: 11 | B13: ='Do now r Qs'!F17 -> 0
A14: 12 | B14: ='Do now r Qs'!F18 -> 0
A15: 13 | B15: ='Do now r Qs'!F19 -> 0
... A32: 30 | B32: ='Do now r Qs'!F36 -> 0

Sheet Sheet2
D2: Number of questions: | G2: 5 | J2: From Q | L2: 1 | M2: To Q | O2: 33
A4: =IF(OR(G2=1, G2=2, G2=3, G2=4, G2=5), 1, "") -> 1 | B4: =IF(OR(G2=1, G2=2, G2=3, G2=4, G2=5), 'Do now r Qs'!E6, "") -> 0
A5: =IF(OR(G2=2, G2=3, G2=4, G2=5), 2, "") -> 2 | B5: =IF(OR(G2=2, G2=3, G2=4, G2=5), 'Do now r Qs'!E7, "") -> 22
A6: =IF(OR(G2=3, G2=4, G2=5), 3, "") -> 3 | B6: =IF(OR(G2=3, G2=4, G2=5),'Do now r Qs'!E8, "") -> 6
A7: =IF(OR(G2=4, G2=5), 4, "") -> 4 | B7: =IF(OR(G2=4, G2=5),'Do now r Qs'!E9, "") -> 32
A8: =IF(OR(G2=5), 5, "") -> 5 | B8: =IF(OR(G2=5),'Do now r Qs'!E10, "") -> 57

Sheet Infinity
D2: Number of questions: | G2: 5 | J2: Up to question: | L2: 22
A4: =IF(OR(G2=1, G2=2, G2=3, G2=4, G2=5), 1, "") -> 1 | B4: =IF(OR(G2=1, G2=2, G2=3, G2=4, G2=5), 'Do now Qs'!E1, "") -> Question from bank
A5: =IF(OR(G2=2, G2=3, G2=4, G2=5), 2, "") -> 2 | B5: =IF(OR(G2=2, G2=3, G2=4, G2=5), 'Do now Qs'!E2, "") -> 27
A6: =IF(OR(G2=3, G2=4, G2=5), 3, "") -> 3 | B6: =IF(OR(G2=3, G2=4, G2=5),'Do now Qs'!E3, "") -> 64
A7: =IF(OR(G2=4, G2=5), 4, "") -> 4 | B7: =IF(OR(G2=4, G2=5),'Do now Qs'!E4, "") -> 55
A8: =IF(OR(G2=5), 5, "") -> 5 | B8: =IF(OR(G2=5),'Do now Qs'!E5, "") -> 39

Sheet Do now Qs
E1: Question from bank | F1: Question | G1: Answer | M1: 1 | N1: =RAND() -> 0.60602149
B2: Interleaved Questions | D2: ='Do Now'!M3 -> 65 | E2: =INDEX(M$1:(INDIRECT("m"&D$2)),RANK(N1,N$1:(INDIRECT("n"&D$2)))) -> 27 | F2: =VLOOKUP(E2, Questions!A:E, 2, FALSE) -> 0 | G2: =VLOOKUP(E2, Questions!A:E, 3, FALSE) -> 0 | M2: 2 | N2: =RAND() -> 0.040991859
A3: =ROW(A1) -> 1 | E3: =INDEX(M$1:(INDIRECT("m"&D$2)),RANK(N2,N$1:(INDIRECT("n"&D$2)))) -> 64 | F3: =VLOOKUP(E3, Questions!A:E, 2, FALSE) -> 0 | G3: =VLOOKUP(E3, Questions!A:E, 3, FALSE) -> 0 | M3: 3 | N3: =RAND() -> 0.14914896
A4: =1+(ROW(A1)) -> 2 | E4: =INDEX(M$1:(INDIRECT("m"&D$2)),RANK(N3,N$1:(INDIRECT("n"&D$2)))) -> 55 | F4: =VLOOKUP(E4, Questions!A:E, 2, FALSE) -> 0 | G4: =VLOOKUP(E4, Questions!A:E, 3, FALSE) -> 0 | M4: 4 | N4: =RAND() -> 0.36996856
E5: =INDEX(M$1:(INDIRECT("m"&D$2)),RANK(N4,N$1:(INDIRECT("n"&D$2)))) -> 39 | F5: =VLOOKUP(E5, Questions!A:E, 2, FALSE) -> 0 | G5: =VLOOKUP(E5, Questions!A:E, 3, FALSE) -> 0 | M5: 5 | N5: =RAND() -> 0.62348901
E6: =INDEX(M$1:(INDIRECT("m"&D$2)),RANK(N5,N$1:(INDIRECT("n"&D$2)))) -> 23 | F6: =VLOOKUP(E6, Questions!A:E, 2, FALSE) -> 0 | G6: =VLOOKUP(E6, Questions!A:E, 3, FALSE) -> 0 | M6: 6 | N6: =RAND() -> 0.61260505
B7: Topic Questions | M7: 7 | N7: =RAND() -> 0.21793932
M8: 8 | N8: =RAND() -> 0.34506511
M9: 9 | N9: =RAND() -> 0.65277528
M10: 10 | N10: =RAND() -> 0.49595859
M11: 11 | N11: =RAND() -> 0.60689417
M12: 12 | N12: =RAND() -> 0.95450314
M13: 13 | N13: =RAND() -> 0.20584106
M14: 14 | N14: =RAND() -> 0.3734846
M15: 15 | N15: =RAND() -> 0.043932207
M16: 16 | N16: =RAND() -> 0.43118576
M17: 17 | N17: =RAND() -> 0.5278453
M18: 18 | N18: =RAND() -> 0.96818023
M19: 19 | N19: =RAND() -> 0.62232776
... M516: 516 | N516: =RAND() -> 0.9728594

Sheet For board 10
A1: 1 | B1: ='Do now r Qs'!F2 -> 0
A2: 2 | B2: ='Do now r Qs'!F3 -> 0
A3: 3 | B3: ='Do now r Qs'!F4 -> 0
A4: 4 | B4: ='Do now r Qs'!F5 -> 0
A5: 5 | B5: ='Do now r Qs'!F6 -> 0
A6: 6 | B6: ='Do now r Qs'!F7 -> 0
A7: 7 | B7: ='Do now r Qs'!F8 -> 0
A8: 8 | B8: ='Do now r Qs'!F9 -> 0
A9: 9 | B9: ='Do now r Qs'!F10 -> 0
A10: 10 | B10: ='Do now r Qs'!F11 -> 0

Sheet Quiz 8
E1: Question from bank | F1: Question | G1: Answer | M1: 1 | N1: =RAND() -> 0.97668952
B2: Interleaved Questions | D2: 229 | E2: =INDEX(M$1:(INDIRECT("m"&D$2)),RANK(N1,N$1:(INDIRECT("n"&D$2)))) -> 8 | F2: =VLOOKUP(E2, Questions!A:E, 2, FALSE) -> 0 | G2: =VLOOKUP(E2, Questions!A:E, 3, FALSE) -> 0 | M2: 2 | N2: =RAND() -> 0.78585372
E3: =INDEX(M$1:(INDIRECT("m"&D$2)),RANK(N2,N$1:(INDIRECT("n"&D$2)))) -> 53 | F3: =VLOOKUP(E3, Questions!A:E, 2, FALSE) -> 0 | G3: =VLOOKUP(E3, Questions!A:E, 3, FALSE) -> 0 | M3: 3 | N3: =RAND() -> 0.91415923
E4: =INDEX(M$1:(INDIRECT("m"&D$2)),RANK(N3,N$1:(INDIRECT("n"&D$2)))) -> 24 | F4: =VLOOKUP(E4, Questions!A:E, 2, FALSE) -> 0 | G4: =VLOOKUP(E4, Questions!A:E, 3, FALSE) -> 0 | M4: 4 | N4: =RAND() -> 0.10663369
E5: =INDEX(M$1:(INDIRECT("m"&D$2)),RANK(N4,N$1:(INDIRECT("n"&D$2)))) -> 205 | F5: =VLOOKUP(E5, Questions!A:E, 2, FALSE) -> 0 | G5: =VLOOKUP(E5, Questions!A:E, 3, FALSE) -> 0 | M5: 5 | N5: =RAND() -> 0.92633322
B6: Topic Questions | C6: 1 | D6: 4 | E6: =INDEX((INDIRECT("m"&C6)):(INDIRECT("m"&D6)),RANK((INDIRECT("n"&C6)),(INDIRECT("n"&C6)):(INDIRECT("n"&D6)))) -> 1 | F6: =VLOOKUP(E6, Questions!A:E, 2, FALSE) -> 0 | G6: =VLOOKUP(E6, Questions!A:E, 3, FALSE) -> 0 | M6: 6 | N6: =RAND() -> 0.79758882
E7: =INDEX((INDIRECT("m"&C6)):(INDIRECT("m"&D6)),RANK((INDIRECT("n"&C6+1)),(INDIRECT("n"&C6)):(INDIRECT("n"&D6)))) -> 3 | F7: =VLOOKUP(E7, Questions!A:E, 2, FALSE) -> 0 | G7: =VLOOKUP(E7, Questions!A:E, 3, FALSE) -> 0 | M7: 7 | N7: =RAND() -> 0.19173696
E8: =INDEX((INDIRECT("m"&C6)):(INDIRECT("m"&D6)),RANK((INDIRECT("n"&C6+2)),(INDIRECT("n"&C6)):(INDIRECT("n"&D6)))) -> 2 | F8: =VLOOKUP(E8, Questions!A:E, 2, FALSE) -> 0 | G8: =VLOOKUP(E8, Questions!A:E, 3, FALSE) -> 0 | M8: 8 | N8: =RAND() -> 0.923111
E9: =INDEX((INDIRECT("m"&C6)):(INDIRECT("m"&D6)),RANK((INDIRECT("n"&C6+3)),(INDIRECT("n"&C6)):(INDIRECT("n"&D6)))) -> 4 | F9: =VLOOKUP(E9, Questions!A:E, 2, FALSE) -> 0 | G9: =VLOOKUP(E9, Questions!A:E, 3, FALSE) -> 0 | M9: 9 | N9: =RAND() -> 0.089917942
M10: 10 | N10: =RAND() -> 0.55953441
M11: 11 | N11: =RAND() -> 0.028104066
M12: 12 | N12: =RAND() -> 0.083786347
M13: 13 | N13: =RAND() -> 0.51635584
M14: 14 | N14: =RAND() -> 0.55154433
M15: 15 | N15: =RAND() -> 0.85557183
M16: 16 | N16: =RAND() -> 0.33342943
M17: 17 | N17: =RAND() -> 0.76861982
M18: 18 | N18: =RAND() -> 0.78898779
M19: 19 | N19: =RAND() -> 0.77317491
M20: 20 | N20: =RAND() -> 0.22047166
M21: 21 | N21: =RAND() -> 0.2053803
... M516: 516 | N516: =RAND() -> 0.80050369

Sheet For board 8
A1: 1 | B1: ='Quiz 8'!F2 -> 0
A2: 2 | B2: ='Quiz 8'!F3 -> 0
A3: 3 | B3: ='Quiz 8'!F4 -> 0
A4: 4 | B4: ='Quiz 8'!F5 -> 0
A5: 5 | B5: ='Quiz 8'!F6 -> 0
A6: 6 | B6: ='Quiz 8'!F7 -> 0
A7: 7 | B7: ='Quiz 8'!F8 -> 0
A8: 8 | B8: ='Quiz 8'!F9 -> 0

Sheet Quiz 6
E1: Question from bank | F1: Question | G1: Answer | M1: 1 | N1: =RAND() -> 0.56912501
B2: Interleaved Questions | D2: 229 | E2: =INDEX(M$1:(INDIRECT("m"&D$2)),RANK(N1,N$1:(INDIRECT("n"&D$2)))) -> 98 | F2: =VLOOKUP(E2, Questions!A:E, 2, FALSE) -> 0 | G2: =VLOOKUP(E2, Questions!A:E, 3, FALSE) -> 0 | M2: 2 | N2: =RAND() -> 0.62650619
E3: =INDEX(M$1:(INDIRECT("m"&D$2)),RANK(N2,N$1:(INDIRECT("n"&D$2)))) -> 86 | F3: =VLOOKUP(E3, Questions!A:E, 2, FALSE) -> 0 | G3: =VLOOKUP(E3, Questions!A:E, 3, FALSE) -> 0 | M3: 3 | N3: =RAND() -> 0.7757033
E4: =INDEX(M$1:(INDIRECT("m"&D$2)),RANK(N3,N$1:(INDIRECT("n"&D$2)))) -> 42 | F4: =VLOOKUP(E4, Questions!A:E, 2, FALSE) -> 0 | G4: =VLOOKUP(E4, Questions!A:E, 3, FALSE) -> 0 | M4: 4 | N4: =RAND() -> 0.40285509
B5: Topic Questions | C5: 1 | D5: 3 | E5: =INDEX((INDIRECT("m"&C5)):(INDIRECT("m"&D5)),RANK((INDIRECT("n"&C5)),(INDIRECT("n"&C5)):(INDIRECT("n"&D5)))) -> 3 | F5: =VLOOKUP(E5, Questions!A:E, 2, FALSE) -> 0 | G5: =VLOOKUP(E5, Questions!A:E, 3, FALSE) -> 0 | M5: 5 | N5: =RAND() -> 0.88625083
E6: =INDEX((INDIRECT("m"&C5)):(INDIRECT("m"&D5)),RANK((INDIRECT("n"&C5+1)),(INDIRECT("n"&C5)):(INDIRECT("n"&D5)))) -> 2 | F6: =VLOOKUP(E6, Questions!A:E, 2, FALSE) -> 0 | G6: =VLOOKUP(E6, Questions!A:E, 3, FALSE) -> 0 | M6: 6 | N6: =RAND() -> 0.48403934
E7: =INDEX((INDIRECT("m"&C5)):(INDIRECT("m"&D5)),RANK((INDIRECT("n"&C5+2)),(INDIRECT("n"&C5)):(INDIRECT("n"&D5)))) -> 1 | F7: =VLOOKUP(E7, Questions!A:E, 2, FALSE) -> 0 | G7: =VLOOKUP(E7, Questions!A:E, 3, FALSE) -> 0 | M7: 7 | N7: =RAND() -> 0.059794205
M8: 8 | N8: =RAND() -> 0.1348116
M9: 9 | N9: =RAND() -> 0.94928949
M10: 10 | N10: =RAND() -> 0.23972287
M11: 11 | N11: =RAND() -> 0.7453926
M12: 12 | N12: =RAND() -> 0.56420934
M13: 13 | N13: =RAND() -> 0.97685888
M14: 14 | N14: =RAND() -> 0.10615074
M15: 15 | N15: =RAND() -> 0.56578423
M16: 16 | N16: =RAND() -> 0.93084642
M17: 17 | N17: =RAND() -> 0.75277679
M18: 18 | N18: =RAND() -> 0.39744239
M19: 19 | N19: =RAND() -> 0.27788751
... M516: 516 | N516: =RAND() -> 0.68816978

Sheet For board 6
A1: 1 | B1: ='Quiz 6'!F2 -> 0
A2: 2 | B2: ='Quiz 6'!F3 -> 0
A3: 3 | B3: ='Quiz 6'!F4 -> 0
A4: 4 | B4: ='Quiz 6'!F5 -> 0
A5: 5 | B5: ='Quiz 6'!F6 -> 0
A6: 6 | B6: ='Quiz 6'!F7 -> 0
