Workbook

Sheet Questions
A1: Number | B1: Question | C1: Answer | D1: Topic | E1: Sub-topic
A2: 1 | B2: Who came up with the Forms? | C2: Plato | D2: Ancient Philosophy
A3: 2 | B3: Define Form of the Good | C3: The highest form that illuminates all other things | D3: Ancient Philosophy
A4: 3 | B4: Define Rationalism | C4: Knowledge is gained through reason | D4: Ancient Philosophy
A5: 4 | B5: Define Empiricism | C5: Knowledge is gained through our senses | D5: Ancient Philosophy
A6: 5 | B6: What is an analogy? | C6: A story using metahpors or imagery to explain a point | D6: Ancient Philosophy
A7: 6 | B7: Describe the Divided Line | C7: Heirarchy of forms down to the shadows in the cave | D7: Ancient Philosophy
A8: 7 | B8: Who did Socrates teach? | C8: Plato | D8: Ancient Philosophy
A9: 8 | B9: All philosophy is what to Plato? | C9: Footnotes | D9: Ancient Philosophy
A10: 9 | B10: What was Plato's school called? | C10: The Academy | D10: Ancient Philosophy
A11: 10 | B11: Heraclitus said what about rivers? | C11: You can't step in the same river twice | D11: Ancient Philosophy
A12: 11 | B12: According to Plato, why do we recognise qualities like beauty? | C12: From remembering the Forms | D12: Ancient Philosophy
A13: 12 | B13: What is Plato's Demiurge? | C13: Creator god | D13: Ancient Philosophy
... A293: 292 | B293: What does Hare mean when he described religious belief as a blik? | C293: That we undoubtably believe our statement regardless of the evidence otherwise | D293: Modern Religious Language
A294: 293
A295: 294
A296: 295
A297: 296
A298: 297
A299: 298
A300: 299
A301: 300
A302: 301
A303: 302
A304: 303
A305: 304
... A371: 370

Sheet Quiz 10
E1: Question from bank | F1: Question | G1: Answer | M1: 1 | N1: =RAND() -> 0.16018
B2: Interleaved Questions | D2: 250 | E2: =INDEX(M$1:(INDIRECT("m"&D$2)),RANK(N1,N$1:(INDIRECT("n"&D$2)))) -> 209 | F2: =VLOOKUP(E2, Questions!A:E, 2, FALSE) -> What does it mean when God says "Is anything too hard for God?" | G2: =VLOOKUP(E2, Questions!A:E, 3, FALSE) -> God can do anything but his nature means he just doesn't want to do some things as they go agaisnt his nature | M2: 2 | N2: =RAND() -> 0.792968
A3: =ROW(A1) -> 1 | E3: =INDEX(M$1:(INDIRECT("m"&D$2)),RANK(N2,N$1:(INDIRECT("n"&D$2)))) -> 45 | F3: =VLOOKUP(E3, Questions!A:E, 2, FALSE) -> What is the name of the slave boy Plato uses to explain the immortality of the soul? | G3: =VLOOKUP(E3, Questions!A:E, 3, FALSE) -> Meno | M3: 3 | N3: =RAND() -> 0.73744242
A4: =1+(ROW(A1)) -> 2 | E4: =INDEX(M$1:(INDIRECT("m"&D$2)),RANK(N3,N$1:(INDIRECT("n"&D$2)))) -> 64 | F4: =VLOOKUP(E4, Questions!A:E, 2, FALSE) -> If something has "extension", what does it have? | G4: =VLOOKUP(E4, Questions!A:E, 3, FALSE) -> Takes up space | M4: 4 | N4: =RAND() -> 0.30220985
E5: =INDEX(M$1:(INDIRECT("m"&D$2)),RANK(N4,N$1:(INDIRECT("n"&D$2)))) -> 169 | F5: =VLOOKUP(E5, Questions!A:E, 2, FALSE) -> What key Christian belief does Hick's theodicy depend on? | G5: =VLOOKUP(E5, Questions!A:E, 3, FALSE) -> Life after death | M5: 5 | N5: =RAND() -> 0.93072434
E6: =INDEX(M$1:(INDIRECT("m"&D$2)),RANK(N5,N$1:(INDIRECT("n"&D$2)))) -> 14 | F6: =VLOOKUP(E6, Questions!A:E, 2, FALSE) -> According to Plato, why is the world imperfect? | G6: =VLOOKUP(E6, Questions!A:E, 3, FALSE) -> Demiurge created from imperfect material as a physical copy of the Forms | M6: 6 | N6: =RAND() -> 0.33471021
B7: Topic Questions | C7: 251 | D7: 260 | E7: {=INDEX((INDIRECT("m"&C7)):(INDIRECT("m"&D7)),RANK((INDIRECT("n"&C7)),(INDIRECT("n"&C7)):(INDIRECT("n"&D7))))} -> 259 | F7: =VLOOKUP(E7, Questions!A:E, 2, FALSE) -> What type of language does Aquinas say we have to use when discussing the nature of God? | G7: =VLOOKUP(E7, Questions!A:E, 3, FALSE) -> Analogy | M7: 7 | N7: =RAND() -> 0.16547112
E8: {=INDEX((INDIRECT("m"&C7)):(INDIRECT("m"&D7)),RANK((INDIRECT("n"&C7+1)),(INDIRECT("n"&C7)):(INDIRECT("n"&D7))))} -> 254 | F8: =VLOOKUP(E8, Questions!A:E, 2, FALSE) -> Give an example of equivocal language | G8: =VLOOKUP(E8, Questions!A:E, 3, FALSE) -> E.G. Fruit bat and cricket bat | M8: 8 | N8: =RAND() -> 0.650247
E9: {=INDEX((INDIRECT("m"&C7)):(INDIRECT("m"&D7)),RANK((INDIRECT("n"&C7+2)),(INDIRECT("n"&C7)):(INDIRECT("n"&D7))))} -> 252 | F9: =VLOOKUP(E9, Questions!A:E, 2, FALSE) -> What is univocal language? | G9: =VLOOKUP(E9, Questions!A:E, 3, FALSE) -> Words that have one meaning even in different contexts | M9: 9 | N9: =RAND() -> 0.074936271
E10: {=INDEX((INDIRECT("m"&C7)):(INDIRECT("m"&D7)),RANK((INDIRECT("n"&C7+3)),(INDIRECT("n"&C7)):(INDIRECT("n"&D7))))} -> 255 | F10: =VLOOKUP(E10, Questions!A:E, 2, FALSE) -> Give an example of univocal language | G10: =VLOOKUP(E10, Questions!A:E, 3, FALSE) -> E.G. bathmat and doormat | M10: 10 | N10: =RAND() -> 0.91318624
E11: {=INDEX((INDIRECT("m"&C7)):(INDIRECT("m"&D7)),RANK((INDIRECT("n"&C7+4)),(INDIRECT("n"&C7)):(INDIRECT("n"&D7))))} -> 257 | F11: =VLOOKUP(E11, Questions!A:E, 2, FALSE) -> Which mode of transport did Maimondes use in his analogy about the via negativa? | G11: =VLOOKUP(E11, Questions!A:E, 3, FALSE) -> A ship | M11: 11 | N11: =RAND() -> 0.044556911
M12: 12 | N12: =RAND() -> 0.39681381
M13: 13 | N13: =RAND() -> 0.30860112
M14: 14 | N14: =RAND() -> 0.085282845
M15: 15 | N15: =RAND() -> 0.036686087
M16: 16 | N16: =RAND() -> 0.87563284
M17: 17 | N17: =RAND() -> 0.95476529
M18: 18 | N18: =RAND() -> 0.73318824
M19: 19 | N19: =RAND() -> 0.066304529
M20: 20 | N20: =RAND() -> 0.9437178
M21: 21 | N21: =RAND() -> 0.084963288
M22: 22 | N22: =RAND() -> 0.12194502
M23: 23 | N23: =RAND() -> 0.88614782
... M516: 516 | N516: =RAND() -> 0.020885937

Sheet For board 10
A1: 1 | B1: ='Quiz 10'!F2 -> What does it mean when God says "Is anything too hard for God?"
A2: 2 | B2: ='Quiz 10'!F3 -> What is the name of the slave boy Plato uses to explain the immortality of the soul?
A3: 3 | B3: ='Quiz 10'!F4 -> If something has "extension", what does it have?
A4: 4 | B4: ='Quiz 10'!F5 -> What key Christian belief does Hick's theodicy depend on?
A5: 5 | B5: ='Quiz 10'!F6 -> According to Plato, why is the world imperfect?
A6: 6 | B6: ='Quiz 10'!F7 -> What type of language does Aquinas say we have to use when discussing the nature of God?
A7: 7 | B7: ='Quiz 10'!F8 -> Give an example of equivocal language
A8: 8 | B8: ='Quiz 10'!F9 -> What is univocal language?
A9: 9 | B9: ='Quiz 10'!F10 -> Give an example of univocal language
A10: 10 | B10: ='Quiz 10'!F11 -> Which mode of transport did Maimondes use in his analogy about the via negativa?

Sheet Quiz 8
E1: Question from bank | F1: Question | G1: Answer | M1: 1 | N1: =RAND() -> 0.57078134
B2: Interleaved Questions | D2: 229 | E2: =INDEX(M$1:(INDIRECT("m"&D$2)),RANK(N1,N$1:(INDIRECT("n"&D$2)))) -> 102 | F2: =VLOOKUP(E2, Questions!A:E, 2, FALSE) -> In which book did Aquinas try to prove God's existence? | G2: =VLOOKUP(E2, Questions!A:E, 3, FALSE) -> Summa Theologica | M2: 2 | N2: =RAND() -> 0.88976187
E3: =INDEX(M$1:(INDIRECT("m"&D$2)),RANK(N2,N$1:(INDIRECT("n"&D$2)))) -> 27 | F3: =VLOOKUP(E3, Questions!A:E, 2, FALSE) -> What is the final cause? | G3: =VLOOKUP(E3, Questions!A:E, 3, FALSE) -> The purpose of something | M3: 3 | N3: =RAND() -> 0.75302087
E4: =INDEX(M$1:(INDIRECT("m"&D$2)),RANK(N3,N$1:(INDIRECT("n"&D$2)))) -> 63 | F4: =VLOOKUP(E4, Questions!A:E, 2, FALSE) -> What is substance dualism? | G4: =VLOOKUP(E4, Questions!A:E, 3, FALSE) -> The mind and body are separate substances that both exist | M4: 4 | N4: =RAND() -> 0.55053255
E5: =INDEX(M$1:(INDIRECT("m"&D$2)),RANK(N4,N$1:(INDIRECT("n"&D$2)))) -> 107 | F5: =VLOOKUP(E5, Questions!A:E, 2, FALSE) -> What is "design qua regularity" | G5: =VLOOKUP(E5, Questions!A:E, 3, FALSE) -> There is logical order in the world that it must have been designed, couldn't have come about by chance | M5: 5 | N5: =RAND() -> 0.018570336
B6: Topic Questions | C6: 1 | D6: 4 | E6: {=INDEX((INDIRECT("m"&C6)):(INDIRECT("m"&D6)),RANK((INDIRECT("n"&C6)),(INDIRECT("n"&C6)):(INDIRECT("n"&D6))))} -> 3 | F6: =VLOOKUP(E6, Questions!A:E, 2, FALSE) -> Define Rationalism | G6: =VLOOKUP(E6, Questions!A:E, 3, FALSE) -> Knowledge is gained through reason | M6: 6 | N6: =RAND() -> 0.065969132
E7: {=INDEX((INDIRECT("m"&C6)):(INDIRECT("m"&D6)),RANK((INDIRECT("n"&C6+1)),(INDIRECT("n"&C6)):(INDIRECT("n"&D6))))} -> 1 | F7: =VLOOKUP(E7, Questions!A:E, 2, FALSE) -> Who came up with the Forms? | G7: =VLOOKUP(E7, Questions!A:E, 3, FALSE) -> Plato | M7: 7 | N7: =RAND() -> 0.82936093
E8: {=INDEX((INDIRECT("m"&C6)):(INDIRECT("m"&D6)),RANK((INDIRECT("n"&C6+2)),(INDIRECT("n"&C6)):(INDIRECT("n"&D6))))} -> 2 | F8: =VLOOKUP(E8, Questions!A:E, 2, FALSE) -> Define Form of the Good | G8: =VLOOKUP(E8, Questions!A:E, 3, FALSE) -> The highest form that illuminates all other things | M8: 8 | N8: =RAND() -> 0.98786392
E9: {=INDEX((INDIRECT("m"&C6)):(INDIRECT("m"&D6)),RANK((INDIRECT("n"&C6+3)),(INDIRECT("n"&C6)):(INDIRECT("n"&D6))))} -> 4 | F9: =VLOOKUP(E9, Questions!A:E, 2, FALSE) -> Define Empiricism | G9: =VLOOKUP(E9, Questions!A:E, 3, FALSE) -> Knowledge is gained through our senses | M9: 9 | N9: =RAND() -> 0.93610674
M10: 10 | N10: =RAND() -> 0.80099877
M11: 11 | N11: =RAND() -> 0.73083142
M12: 12 | N12: =RAND() -> 0.037489144
M13: 13 | N13: =RAND() -> 0.21372822
M14: 14 | N14: =RAND() -> 0.18340517
M15: 15 | N15: =RAND() -> 0.7225928
M16: 16 | N16: =RAND() -> 0.93560237
M17: 17 | N17: =RAND() -> 0.81397774
M18: 18 | N18: =RAND() -> 0.39071466
M19: 19 | N19: =RAND() -> 0.70157911
M20: 20 | N20: =RAND() -> 0.35095919
M21: 21 | N21: =RAND() -> 0.84077938
... M516: 516 | N516: =RAND() -> 0.0021178604

Sheet For board 8
A1: 1 | B1: ='Quiz 8'!F2 -> In which book did Aquinas try to prove God's existence?
A2: 2 | B2: ='Quiz 8'!F3 -> What is the final cause?
A3: 3 | B3: ='Quiz 8'!F4 -> What is substance dualism?
A4: 4 | B4: ='Quiz 8'!F5 -> What is "design qua regularity"
A5: 5 | B5: ='Quiz 8'!F6 -> Define Rationalism
A6: 6 | B6: ='Quiz 8'!F7 -> Who came up with the Forms?
A7: 7 | B7: ='Quiz 8'!F8 -> Define Form of the Good
A8: 8 | B8: ='Quiz 8'!F9 -> Define Empiricism

Sheet Quiz 6
E1: Question from bank | F1: Question | G1: Answer | M1: 1 | N1: =RAND() -> 0.061435651
B2: Interleaved Questions | D2: 229 | E2: =INDEX(M$1:(INDIRECT("m"&D$2)),RANK(N1,N$1:(INDIRECT("n"&D$2)))) -> 218 | F2: =VLOOKUP(E2, Questions!A:E, 2, FALSE) -> What are the 2 main theories on God's relationship with time? | G2: =VLOOKUP(E2, Questions!A:E, 3, FALSE) -> Eternal and Everlasting | M2: 2 | N2: =RAND() -> 0.75672798
E3: =INDEX(M$1:(INDIRECT("m"&D$2)),RANK(N2,N$1:(INDIRECT("n"&D$2)))) -> 59 | F3: =VLOOKUP(E3, Questions!A:E, 2, FALSE) -> What would Aristotle say is the essence of an axe? | G3: =VLOOKUP(E3, Questions!A:E, 3, FALSE) -> It's ability to chop | M3: 3 | N3: =RAND() -> 0.60258955
E4: =INDEX(M$1:(INDIRECT("m"&D$2)),RANK(N3,N$1:(INDIRECT("n"&D$2)))) -> 95 | F4: =VLOOKUP(E4, Questions!A:E, 2, FALSE) -> Russell says just because humans have a mother doesn't mean the entire universe has a mother. This is called what? | G4: =VLOOKUP(E4, Questions!A:E, 3, FALSE) -> Fallacy of Composition | M4: 4 | N4: =RAND() -> 0.88238187
B5: Topic Questions | C5: 1 | D5: 3 | E5: {=INDEX((INDIRECT("m"&C5)):(INDIRECT("m"&D5)),RANK((INDIRECT("n"&C5)),(INDIRECT("n"&C5)):(INDIRECT("n"&D5))))} -> 3 | F5: =VLOOKUP(E5, Questions!A:E, 2, FALSE) -> Define Rationalism | G5: =VLOOKUP(E5, Questions!A:E, 3, FALSE) -> Knowledge is gained through reason | M5: 5 | N5: =RAND() -> 0.71017166
E6: {=INDEX((INDIRECT("m"&C5)):(INDIRECT("m"&D5)),RANK((INDIRECT("n"&C5+1)),(INDIRECT("n"&C5)):(INDIRECT("n"&D5))))} -> 1 | F6: =VLOOKUP(E6, Questions!A:E, 2, FALSE) -> Who came up with the Forms? | G6: =VLOOKUP(E6, Questions!A:E, 3, FALSE) -> Plato | M6: 6 | N6: =RAND() -> 0.5945309
E7: {=INDEX((INDIRECT("m"&C5)):(INDIRECT("m"&D5)),RANK((INDIRECT("n"&C5+2)),(INDIRECT("n"&C5)):(INDIRECT("n"&D5))))} -> 2 | F7: =VLOOKUP(E7, Questions!A:E, 2, FALSE) -> Define Form of the Good | G7: =VLOOKUP(E7, Questions!A:E, 3, FALSE) -> The highest form that illuminates all other things | M7: 7 | N7: =RAND() -> 0.16935379
M8: 8 | N8: =RAND() -> 0.98585674
M9: 9 | N9: =RAND() -> 0.16082095
M10: 10 | N10: =RAND() -> 0.89620369
M11: 11 | N11: =RAND() -> 0.46019621
M12: 12 | N12: =RAND() -> 0.30751543
M13: 13 | N13: =RAND() -> 0.35676425
M14: 14 | N14: =RAND() -> 0.013651388
M15: 15 | N15: =RAND() -> 0.21973373
M16: 16 | N16: =RAND() -> 0.82484444
M17: 17 | N17: =RAND() -> 0.47789837
M18: 18 | N18: =RAND() -> 0.82328006
M19: 19 | N19: =RAND() -> 0.93117855
... M516: 516 | N516: =RAND() -> 0.94819301

Sheet For board 6
A1: 1 | B1: ='Quiz 6'!F2 -> What are the 2 main theories on God's relationship with time?
A2: 2 | B2: ='Quiz 6'!F3 -> What would Aristotle say is the essence of an axe?
A3: 3 | B3: ='Quiz 6'!F4 -> Russell says just because humans have a mother doesn't mean the entire universe has a mother. This is called what?
A4: 4 | B4: ='Quiz 6'!F5 -> Define Rationalism
A5: 5 | B5: ='Quiz 6'!F6 -> Who came up with the Forms?
A6: 6 | B6: ='Quiz 6'!F7 -> Define Form of the Good
