Workbook

Sheet Questions
A1: Number | B1: Question | C1: Answer | D1: Topic | E1: Sub-topic
A2: 1 | B2: Question | C2: Answer | D2: Topic
A3: 2 | B3: What is the relative atomic mass of an atom? | C3: The weighted average mass of an atom of an element, taking into account its naturally occurring isotopes, relative to 1/12 the relative atomic mass of an atom of carbon-12 | D3: Quantitative chem
A4: 3 | B4: What is the relative molecular mass of a molecule? | C4: The mass of a molecule compared to 1/12 the relative atomic mass of an atom of carbon-12 | D4: Quantitative chem
A5: 4 | B5: What is the relative atomic mass of X? | C5: Relative mass of X taken from the A Level data sheet | D5: Quantitative chem
A6: 5 | B6: What is the relative molecular mass of X? | C6: Sum of relative atomic masses of all constituent atoms taken from the A Level data sheet | D6: Quantitative chem
A7: 6 | B7: What is a mole? | C7: A specific number of particles | D7: Quantitative chem
A8: 7 | B8: What is the Avogadro Constant? | C8: The number of things in a mole, 6.022x10²³ | D8: Quantitative chem
A9: 8 | B9: How many X particles are in Y moles of Z? | C9: (number of X in Z) x (Y) x (6.022x10²³) | D9: Quantitative chem
A10: 9 | B10: How are the number of moles of a substance established from its mass? | C10: Moles = mass/Mr | D10: Quantitative chem
A11: 10 | B11: How many moles are in Xg of Y? | C11: X/Mr of Y | D11: Quantitative chem
A12: 11 | B12: What is the mass of X moles of Y? | C12: X x Mr of Y | D12: Quantitative chem
A13: 12 | B13: X moles of a substance has a mass of Y. What is its Mr? | C13: Y/X | D13: Quantitative chem
... A26: 25 | B26: Give the units for P, V and T | C26: P in pascals, V in m³, T in kelvin | D26: Quantitative chem
A27: 26 | B27: Rearrange the ideal gas equation for P, V, n, R and T | D27: Quantitative chem
A28: 27 | B28: What does R stand for? | C28: The gas constant, 8.31JK⁻¹mol⁻¹ | D28: Quantitative chem
A29: 28 | B29: Calculate the X of a gas at... | C29: Rearrange, convert to proper units and calculate | D29: Quantitative chem
A30: 29 | B30: A gas is at P ___, V___ and T___ with a mass of Xg. Calculate its Mr. | C30: Use n = PV/RT to calculate moles then X/moles to calculate Mr | D30: Quantitative chem
A31: 30 | B31: What is the empirical formula of a substance? | C31: The formula that represents the simplest whole number ratio of the atoms of each element present in the compound. | D31: Quantitative chem
A32: 31 | B32: A substance is composed of Xg of A, Yg of B and Zg of C. Establish its empirical formula. | C32: Divide masses by Ar, convert to whole number ratio, apply to formula | D32: Quantitative chem
A33: 32 | B33: What is the molecular formula? | C33: The actual number of atoms of each element in one molecule of a compound | D33: Quantitative chem
A34: 33 | B34: What is the formula of a named ionic compound? | C34: Use the charges to work out how many of each ion are necessary to result in no net charge | D34: Quantitative chem
A35: 34 | B35: What is an ionic equation? | C35: A simplified equation showing the ions present in a reaction | D35: Quantitative chem
A36: 35 | B36: What is a spectator ion? | C36: An ion that does not take part in a reaction | D36: Quantitative chem
A37: 36 | B37: Which substances produce ions in ionic equations? | C37: Aqueous solutions of ionic compounds | D37: Quantitative chem
A38: 37 | B38: Write an ionic equation for a given reaction | C38: Correct identification of ions produced and removal of spectator ions | D38: Quantitative chem
A39: 38 | B39: What is the atom economy of a reaction? | C39: A ratio of the mass of desired product to the mass of all products | D39: Quantitative chem
... A86: 85 | B86: What is a halogenoalkane? | C86: A saturated hydrocarbon with a halogen bonded to at least one carbon | D86: Halogenoalkanes
A87: 86 | B87: Name a given halogenoalkane | D87: Halogenoalkanes
A88: 87 | B88: What explains halogenoalkanes increased reactivity relative to alkanes? | C88: The polar carbon-halogen bond | D88: Halogenoalkanes
A89: 88 | B89: Why do halogenoalkanes contain polar bonds? | C89: Due to the difference in electronegativity between carbon and halogens | D89: Halogenoalkanes
A90: 89 | B90: What kind of reactions do halogenoalkanes undergo? | C90: Nucleophilic substitution | D90: Halogenoalkanes
A91: 90 | B91: What is a nucleophile | C91: A substance with a lone pair of electrons | D91: Halogenoalkanes
A92: 91 | B92: Which three nucleophiles do halogenoalkanes react with? | C92: OH⁻, CN⁻ and NH₃ | D92: Halogenoalkanes
A93: 92 | B93: What reagents and conditions are necessary for hydroxyl substitutions of halogenoalkanes? | C93: Reflux in aqueous solution of NaOH | D93: Halogenoalkanes
A94: 93 | B94: What reagents and conditions are necessary for nitrile (cyanide) substitution of halogenoalkanes? | C94: Aqueous, alcoholic KCN | D94: Halogenoalkanes
A95: 94 | B95: What is the importance of nucleophilic substitution with cyanide ions? | C95: Increases the length of the carbon chain | D95: Halogenoalkanes
A96: 95 | B96: What reagents and conditions are necessary for ammonia substitution of halogenoalkanes? | C96: Reflux in aqueous, alcoholic excess ammonia | D96: Halogenoalkanes
A97: 96 | B97: Why is excess ammonia required in its nucleophilic substitution with a halogenoalkane? | C97: To prevent further substitutions | D97: Halogenoalkanes
A98: 97 | B98: Draw a nucleophilic substitution mechanism for a given halogenoalkane reacting with a given nucelophile | D98: Halogenoalkanes
A99: 98 | B99: How is the rate of reaction dependent on the enthalpy of the C-X bond? | C99: The greater the enthalpy of the C-X bond, the greater its strength, the slower the reaction | D99: Halogenoalkanes
A100: 99 | B100: What is the trend in C-X reaction rates | C100: Increases down the group from C-F to C-I | D100: Halogenoalkanes
A101: 100 | B101: What is an elimination reaction? | C101: A reaction where a halogenoalkane becomes an alkene | D101: Halogenoalkanes
A102: 101 | B102: Which elements are "eliminated" in an elimination reaction | C102: H and X | D102: Halogenoalkanes
A103: 102 | B103: What conditions favour elimination reactions? | C103: Secondary or tertiary halogenoalkane, hot ethanolic KOH | D103: Halogenoalkanes
A104: 103 | B104: Draw the mechanism for the elimination of a given halogenoalkane with OH⁻ | D104: Halogenoalkanes
A105: 104 | B105: What is ozone? | C105: O₃ | D105: Halogenoalkanes
A106: 105 | B106: Where is ozone found and why is it beneficial? | C106: Upper atmosphere, absorbs harmful UV radiation | D106: Halogenoalkanes
A107: 106 | B107: What is a CFC? | C107: A chlorfluorocarbon: a compound containing C-Cl and C-F bonds | D107: Halogenoalkanes
A108: 107 | B108: What were CFCs used for? | C108: Refrigerants and solvents | D108: Halogenoalkanes
A109: 108 | B109: What happens to CFCs when exposed to UV? | C109: C-Cl bond breaks and generates Cl∙ | D109: Halogenoalkanes
A110: 109 | B110: How do chlorine radicals interact with ozone? | C110: Catalyse its decomposition into O₂ thus forming a "hole" in the ozone layer | D110: Halogenoalkanes
A111: 110 | B111: Why are CFCs now banned for use? | C111: Due to research results from different groups within the scientific community | D111: Halogenoalkanes
A112: 111 | B112: Give two equations showing the decomposition of ozone with chlorine radicals | C112: Cl∙ + O₃ → ClO∙ + O₂ , ClO∙ + O₃ → 2O₂ + Cl∙ | D112: Halogenoalkanes
A113: 112 | B113: What is the overall equation for the decomposition of ozone? | C113: 2O₃ → 3O₂ | D113: Halogenoalkanes
A114: 113 | B114: What is an alkene? | C114: A hydrocarbon with a carbon-carbon double bond | D114: Alkenes
A115: 114 | B115: Why are alkenes described as unsaturated? | C115: They have a carbon-carbon double bond | D115: Alkenes
A116: 115 | B116: Describe the electron density of the double bond | C116: It is a region of high electron density | D116: Alkenes
A117: 116 | B117: Draw the shape of the carbon-carbon double bond orbitals | D117: Alkenes
A118: 117 | B118: What type of isomerism can alkenes exhibit? | C118: Stereoisomerism (E-Z or cis-trans) | D118: Alkenes
A119: 118 | B119: What physical feature of alkenes causes their stereoisomerism? | C119: That the double bond cannot rotate | D119: Alkenes
A120: 119 | B120: Name a given alkene | D120: Alkenes
A121: 120 | B121: What two type of reactions do alkenes typically undergo? | C121: Electrophilic addition or polymerisation | D121: Alkenes
A122: 121 | B122: Which three reagents do alkenes typically react with? | C122: HBr, H₂SO₄ and Br₂ | D122: Alkenes
A123: 122 | B123: What type of reagents do alkenes react with? | C123: Electrophiles | D123: Alkenes
A124: 123 | B124: What are the products of an electrophilic addition reaction with Br₂? | C124: A dibromoalkane | D124: Alkenes
A125: 124 | B125: Draw a reaction mechanism for a given alkene with Br₂ | D125: Alkenes
A126: 125 | B126: Why is bromine water used as a test for alkenes? | C126: The Br₂ reacts with the alkene so its reddish-brown colour is decolourised | D126: Alkenes
A127: 126 | B127: What are the products of an addition reaction with HBr? | C127: A bromoalkane | D127: Alkenes
A128: 127 | B128: What is a carbocation intermediate? | C128: An intermediate molecule in a reaction which has a positive charge on a carbon atom | D128: Alkenes
A129: 128 | B129: From a given carbocation, state whether it is primary, secondary or tertiary | D129: Alkenes
A130: 129 | B130: Describe the variation in stabilities of the different orders of carbocation | C130: Tertiary > secondary > primary | D130: Alkenes
A131: 130 | B131: How does stability of carbocations effect the products of an addition reaction with HBr? | C131: More stable carbocation is formed resulting in a major and minor product | D131: Alkenes
A132: 131 | B132: Draw a mechanism for an addition reaction of an alkene and HBr. Draw and label the major and minor products. | D132: Alkenes
A133: 132 | B133: What is the product of a reaction with an alkene and concentrated H₂SO₄? | C133: An alcohol | D133: Alkenes
A134: 133 | B134: Draw a mechanism for the reaction between a given alkene and concentrated sulphuric acid | D134: Alkenes
A135: 134 | B135: Why can sulphuric acid be considered a catalyst in hydration of alkenes? | C135: It is regenerated by the end of the reaction. | D135: Alkenes
A136: 135 | B136: What are addition polymers formed from? | C136: Alkenes and substituted alkenes | D136: Alkenes
A137: 136 | B137: How are addition polymers named? | C137: Poly(name of original alkene) | D137: Alkenes
A138: 137 | B138: Draw the polymer for a given substituted alkene | D138: Alkenes
A139: 138 | B139: Draw the monomer for a given section of polymer | D139: Alkenes
A140: 139 | B140: What are the chemical properties of addition polymers? | C140: Generally unreactive | D140: Alkenes
A141: 140 | B141: Why are addition polymers unreactive? | C141: Strong C-C and C-H bonds | D141: Alkenes
A142: 141 | B142: What is PVC? | C142: Poly(chloroethene) | D142: Alkenes
A143: 142 | B143: What is a plasticiser? | C143: A small molecule that can get inbetween polymer chains resulting in them being able to slide over one another more easily | D143: Alkenes
A144: 143 | B144: What is an alcohol? | C144: An organic compound with an -OH group | D144: Alcohols
A145: 144 | B145: Draw the structure of the first three alcohols | C145: Methanol, ethanol and propanol | D145: Alcohols
A146: 145 | B146: Name a given alcohol, diol or triol | D146: Alcohols
A147: 146 | B147: What are the physical properties of alcohols? | C147: Relatively high mp and bp, miscible with water | D147: Alcohols
A148: 147 | B148: Explain the physical properties of alcohols | C148: OH group leads to hydrogen bonding | D148: Alcohols
A149: 148 | B149: What are the two methods for production of ethanol? | C149: Fermentation of glucose, hydration of ethene | D149: Alcohols
A150: 149 | B150: What are the conditions for the production of ethanol from ethene? | C150: Heat, sulphuric acid catalyst, water | D150: Alcohols
A151: 150 | B151: What conditions are necessary for the fermentation of glucose? | C151: Compromise temperature of 35°C, enzymes, sealed vessel | D151: Alcohols
A152: 151 | B152: Give two advantages of production of ethanol from glucose | C152: Low tech required, renewable, potentially carbon neutral | D152: Alcohols
A153: 152 | B153: Give three disadvantages of production of ethanol from glucose | C153: Slow, Low yield, Significant land use, Has to be distilled, Labour intensive | D153: Alcohols
A154: 153 | B154: How is ethanol extracted after fermentation of glucose? | C154: Fractional distillation | D154: Alcohols
A155: 154 | B155: Give two advantages of production of ethanol from ethene | C155: Fast reaction, Pure product, Continuous process, Low on manpower, High yield, 100% alcohol | D155: Alcohols
A156: 155 | B156: Give three disadvantages of production of ethanol from ethene | C156: High technology, Non-renewable source, Expensive equipment | D156: Alcohols
A157: 156 | B157: Write a balanced symbol equation for the complete combustion of a given alcohol | D157: Alcohols
A158: 157 | B158: What is a dehydration of an alcohol reaction? | C158: One where water is eliminated from an alcohol | D158: Alcohols
...

Sheet Quiz 10
E1: Question from bank | F1: Question | G1: Answer | M1: 1 | N1: =RAND() -> 0.10573441
B2: Interleaved Questions | D2: 239 | E2: =INDEX(M$1:(INDIRECT("m"&D$2)),RANK(N1,N$1:(INDIRECT("n"&D$2)))) -> 214 | F2: =VLOOKUP(E2, Questions!A:E, 2, FALSE) -> 0 | G2: =VLOOKUP(E2, Questions!A:E, 3, FALSE) -> 0 | M2: 2 | N2: =RAND() -> 0.60056691
A3: =ROW(A1) -> 1 | E3: =INDEX(M$1:(INDIRECT("m"&D$2)),RANK(N2,N$1:(INDIRECT("n"&D$2)))) -> 86 | F3: =VLOOKUP(E3, Questions!A:E, 2, FALSE) -> Name a given halogenoalkane | G3: =VLOOKUP(E3, Questions!A:E, 3, FALSE) -> 0 | M3: 3 | N3: =RAND() -> 0.59480341
A4: =1+(ROW(A1)) -> 2 | E4: =INDEX(M$1:(INDIRECT("m"&D$2)),RANK(N3,N$1:(INDIRECT("n"&D$2)))) -> 88 | F4: =VLOOKUP(E4, Questions!A:E, 2, FALSE) -> Why do halogenoalkanes contain polar bonds? | G4: =VLOOKUP(E4, Questions!A:E, 3, FALSE) -> Due to the difference in electronegativity between carbon and halogens | M4: 4 | N4: =RAND() -> 0.92868056
E5: =INDEX(M$1:(INDIRECT("m"&D$2)),RANK(N4,N$1:(INDIRECT("n"&D$2)))) -> 18 | F5: =VLOOKUP(E5, Questions!A:E, 2, FALSE) -> How many moles are in Abm³ of Cmoldm⁻³ solution? | G5: =VLOOKUP(E5, Questions!A:E, 3, FALSE) -> After proper conversions, AxC | M5: 5 | N5: =RAND() -> 0.32906296
E6: =INDEX(M$1:(INDIRECT("m"&D$2)),RANK(N5,N$1:(INDIRECT("n"&D$2)))) -> 162 | F6: =VLOOKUP(E6, Questions!A:E, 2, FALSE) -> What is an oxidation reaction in organic chemistry? | G6: =VLOOKUP(E6, Questions!A:E, 3, FALSE) -> A reaction where oxygen is added or hydrogen is removed from a compound | M6: 6 | N6: =RAND() -> 0.42451548
B7: Topic Questions | C7: 240 | D7: 288 | E7: =INDEX((INDIRECT("m"&C7)):(INDIRECT("m"&D7)),RANK((INDIRECT("n"&C7)),(INDIRECT("n"&C7)):(INDIRECT("n"&D7)))) -> 261 | F7: =VLOOKUP(E7, Questions!A:E, 2, FALSE) -> 0 | G7: =VLOOKUP(E7, Questions!A:E, 3, FALSE) -> 0 | M7: 7 | N7: =RAND() -> 0.9421455
E8: =INDEX((INDIRECT("m"&C7)):(INDIRECT("m"&D7)),RANK((INDIRECT("n"&C7+1)),(INDIRECT("n"&C7)):(INDIRECT("n"&D7)))) -> 244 | F8: =VLOOKUP(E8, Questions!A:E, 2, FALSE) -> 0 | G8: =VLOOKUP(E8, Questions!A:E, 3, FALSE) -> 0 | M8: 8 | N8: =RAND() -> 0.32985364
E9: =INDEX((INDIRECT("m"&C7)):(INDIRECT("m"&D7)),RANK((INDIRECT("n"&C7+2)),(INDIRECT("n"&C7)):(INDIRECT("n"&D7)))) -> 272 | F9: =VLOOKUP(E9, Questions!A:E, 2, FALSE) -> 0 | G9: =VLOOKUP(E9, Questions!A:E, 3, FALSE) -> 0 | M9: 9 | N9: =RAND() -> 0.75407963
E10: =INDEX((INDIRECT("m"&C7)):(INDIRECT("m"&D7)),RANK((INDIRECT("n"&C7+3)),(INDIRECT("n"&C7)):(INDIRECT("n"&D7)))) -> 285 | F10: =VLOOKUP(E10, Questions!A:E, 2, FALSE) -> 0 | G10: =VLOOKUP(E10, Questions!A:E, 3, FALSE) -> 0 | M10: 10 | N10: =RAND() -> 0.77867437
E11: =INDEX((INDIRECT("m"&C7)):(INDIRECT("m"&D7)),RANK((INDIRECT("n"&C7+4)),(INDIRECT("n"&C7)):(INDIRECT("n"&D7)))) -> 252 | F11: =VLOOKUP(E11, Questions!A:E, 2, FALSE) -> 0 | G11: =VLOOKUP(E11, Questions!A:E, 3, FALSE) -> 0 | M11: 11 | N11: =RAND() -> 0.21376049
M12: 12 | N12: =RAND() -> 0.53736379
M13: 13 | N13: =RAND() -> 0.20149595
M14: 14 | N14: =RAND() -> 0.36670466
M15: 15 | N15: =RAND() -> 0.32615274
M16: 16 | N16: =RAND() -> 0.0036157775
M17: 17 | N17: =RAND() -> 0.20862579
M18: 18 | N18: =RAND() -> 0.99253914
M19: 19 | N19: =RAND() -> 0.98893586
M20: 20 | N20: =RAND() -> 0.32543607
M21: 21 | N21: =RAND() -> 0.68656653
M22: 22 | N22: =RAND() -> 0.24671972
M23: 23 | N23: =RAND() -> 0.70932304
... M516: 516 | N516: =RAND() -> 0.74959768

Sheet For board 10
A1: 1 | B1: ='Quiz 10'!F2 -> 0
A2: 2 | B2: ='Quiz 10'!F3 -> Name a given halogenoalkane
A3: 3 | B3: ='Quiz 10'!F4 -> Why do halogenoalkanes contain polar bonds?
A4: 4 | B4: ='Quiz 10'!F5 -> How many moles are in Abm³ of Cmoldm⁻³ solution?
A5: 5 | B5: ='Quiz 10'!F6 -> What is an oxidation reaction in organic chemistry?
A6: 6 | B6: ='Quiz 10'!F7 -> 0
A7: 7 | B7: ='Quiz 10'!F8 -> 0
A8: 8 | B8: ='Quiz 10'!F9 -> 0
A9: 9 | B9: ='Quiz 10'!F10 -> 0
A10: 10 | B10: ='Quiz 10'!F11 -> 0

Sheet Quiz 8
E1: Question from bank | F1: Question | G1: Answer | M1: 1 | N1: =RAND() -> 0.90007398
B2: Interleaved Questions | D2: 229 | E2: =INDEX(M$1:(INDIRECT("m"&D$2)),RANK(N1,N$1:(INDIRECT("n"&D$2)))) -> 17 | F2: =VLOOKUP(E2, Questions!A:E, 2, FALSE) -> X moles of a substance is dissolved in Yzm³ of water. What is its concentration? | G2: =VLOOKUP(E2, Questions!A:E, 3, FALSE) -> After converting to dm³ X/Y | M2: 2 | N2: =RAND() -> 0.53310633
E3: =INDEX(M$1:(INDIRECT("m"&D$2)),RANK(N2,N$1:(INDIRECT("n"&D$2)))) -> 104 | F3: =VLOOKUP(E3, Questions!A:E, 2, FALSE) -> What is ozone? | G3: =VLOOKUP(E3, Questions!A:E, 3, FALSE) -> O₃ | M3: 3 | N3: =RAND() -> 0.776011
E4: =INDEX(M$1:(INDIRECT("m"&D$2)),RANK(N3,N$1:(INDIRECT("n"&D$2)))) -> 44 | F4: =VLOOKUP(E4, Questions!A:E, 2, FALSE) -> What is a structural or shorthand formula? | G4: =VLOOKUP(E4, Questions!A:E, 3, FALSE) -> A formula showing the arrangement of atoms in a substance without showing the bonds. E.g. CH₃CH₂CH₃ | M4: 4 | N4: =RAND() -> 0.74646326
E5: =INDEX(M$1:(INDIRECT("m"&D$2)),RANK(N4,N$1:(INDIRECT("n"&D$2)))) -> 52 | F5: =VLOOKUP(E5, Questions!A:E, 2, FALSE) -> What is structural isomerism? | G5: =VLOOKUP(E5, Questions!A:E, 3, FALSE) -> Where isomers have the same molecular formula but a different structure | M5: 5 | N5: =RAND() -> 0.040169501
B6: Topic Questions | C6: 1 | D6: 4 | E6: =INDEX((INDIRECT("m"&C6)):(INDIRECT("m"&D6)),RANK((INDIRECT("n"&C6)),(INDIRECT("n"&C6)):(INDIRECT("n"&D6)))) -> 1 | F6: =VLOOKUP(E6, Questions!A:E, 2, FALSE) -> Question | G6: =VLOOKUP(E6, Questions!A:E, 3, FALSE) -> Answer | M6: 6 | N6: =RAND() -> 0.23968942
E7: =INDEX((INDIRECT("m"&C6)):(INDIRECT("m"&D6)),RANK((INDIRECT("n"&C6+1)),(INDIRECT("n"&C6)):(INDIRECT("n"&D6)))) -> 4 | F7: =VLOOKUP(E7, Questions!A:E, 2, FALSE) -> What is the relative atomic mass of X? | G7: =VLOOKUP(E7, Questions!A:E, 3, FALSE) -> Relative mass of X taken from the A Level data sheet | M7: 7 | N7: =RAND() -> 0.29944034
E8: =INDEX((INDIRECT("m"&C6)):(INDIRECT("m"&D6)),RANK((INDIRECT("n"&C6+2)),(INDIRECT("n"&C6)):(INDIRECT("n"&D6)))) -> 2 | F8: =VLOOKUP(E8, Questions!A:E, 2, FALSE) -> What is the relative atomic mass of an atom? | G8: =VLOOKUP(E8, Questions!A:E, 3, FALSE) -> The weighted average mass of an atom of an element, taking into account its naturally occurring isotopes, relative to 1/12 the relative atomic mass of an atom of carbon-12 | M8: 8 | N8: =RAND() -> 0.53338217
E9: =INDEX((INDIRECT("m"&C6)):(INDIRECT("m"&D6)),RANK((INDIRECT("n"&C6+3)),(INDIRECT("n"&C6)):(INDIRECT("n"&D6)))) -> 3 | F9: =VLOOKUP(E9, Questions!A:E, 2, FALSE) -> What is the relative molecular mass of a molecule? | G9: =VLOOKUP(E9, Questions!A:E, 3, FALSE) -> The mass of a molecule compared to 1/12 the relative atomic mass of an atom of carbon-12 | M9: 9 | N9: =RAND() -> 0.56535423
M10: 10 | N10: =RAND() -> 0.3020165
M11: 11 | N11: =RAND() -> 0.44497346
M12: 12 | N12: =RAND() -> 0.9621084
M13: 13 | N13: =RAND() -> 0.12745425
M14: 14 | N14: =RAND() -> 0.80269076
M15: 15 | N15: =RAND() -> 0.46328973
M16: 16 | N16: =RAND() -> 0.6153498
M17: 17 | N17: =RAND() -> 0.93713408
M18: 18 | N18: =RAND() -> 0.5015367
M19: 19 | N19: =RAND() -> 0.038757469
M20: 20 | N20: =RAND() -> 0.81348915
M21: 21 | N21: =RAND() -> 0.25613688
... M516: 516 | N516: =RAND() -> 0.68676164

Sheet For board 8
A1: 1 | B1: ='Quiz 8'!F2 -> X moles of a substance is dissolved in Yzm³ of water. What is its concentration?
A2: 2 | B2: ='Quiz 8'!F3 -> What is ozone?
A3: 3 | B3: ='Quiz 8'!F4 -> What is a structural or shorthand formula?
A4: 4 | B4: ='Quiz 8'!F5 -> What is structural isomerism?
A5: 5 | B5: ='Quiz 8'!F6 -> Question
A6: 6 | B6: ='Quiz 8'!F7 -> What is the relative atomic mass of X?
A7: 7 | B7: ='Quiz 8'!F8 -> What is the relative atomic mass of an atom?
A8: 8 | B8: ='Quiz 8'!F9 -> What is the relative molecular mass of a molecule?

Sheet Quiz 6
E1: Question from bank | F1: Question | G1: Answer | M1: 1 | N1: =RAND() -> 0.078290391
B2: Interleaved Questions | D2: 229 | E2: =INDEX(M$1:(INDIRECT("m"&D$2)),RANK(N1,N$1:(INDIRECT("n"&D$2)))) -> 214 | F2: =VLOOKUP(E2, Questions!A:E, 2, FALSE) -> 0 | G2: =VLOOKUP(E2, Questions!A:E, 3, FALSE) -> 0 | M2: 2 | N2: =RAND() -> 0.41267463
E3: =INDEX(M$1:(INDIRECT("m"&D$2)),RANK(N2,N$1:(INDIRECT("n"&D$2)))) -> 149 | F3: =VLOOKUP(E3, Questions!A:E, 2, FALSE) -> What are the conditions for the production of ethanol from ethene? | G3: =VLOOKUP(E3, Questions!A:E, 3, FALSE) -> Heat, sulphuric acid catalyst, water | M3: 3 | N3: =RAND() -> 0.95501968
E4: =INDEX(M$1:(INDIRECT("m"&D$2)),RANK(N3,N$1:(INDIRECT("n"&D$2)))) -> 13 | F4: =VLOOKUP(E4, Questions!A:E, 2, FALSE) -> Calculate the yield of a given reaction which results in Xg of product having started with Yg of reactant | G4: =VLOOKUP(E4, Questions!A:E, 3, FALSE) -> Molar ratio from balanced equation, actual mass/expected mass x 100 | M4: 4 | N4: =RAND() -> 0.82254722
B5: Topic Questions | C5: 1 | D5: 3 | E5: =INDEX((INDIRECT("m"&C5)):(INDIRECT("m"&D5)),RANK((INDIRECT("n"&C5)),(INDIRECT("n"&C5)):(INDIRECT("n"&D5)))) -> 3 | F5: =VLOOKUP(E5, Questions!A:E, 2, FALSE) -> What is the relative molecular mass of a molecule? | G5: =VLOOKUP(E5, Questions!A:E, 3, FALSE) -> The mass of a molecule compared to 1/12 the relative atomic mass of an atom of carbon-12 | M5: 5 | N5: =RAND() -> 0.43563363
E6: =INDEX((INDIRECT("m"&C5)):(INDIRECT("m"&D5)),RANK((INDIRECT("n"&C5+1)),(INDIRECT("n"&C5)):(INDIRECT("n"&D5)))) -> 2 | F6: =VLOOKUP(E6, Questions!A:E, 2, FALSE) -> What is the relative atomic mass of an atom? | G6: =VLOOKUP(E6, Questions!A:E, 3, FALSE) -> The weighted average mass of an atom of an element, taking into account its naturally occurring isotopes, relative to 1/12 the relative atomic mass of an atom of carbon-12 | M6: 6 | N6: =RAND() -> 0.4981839
E7: =INDEX((INDIRECT("m"&C5)):(INDIRECT("m"&D5)),RANK((INDIRECT("n"&C5+2)),(INDIRECT("n"&C5)):(INDIRECT("n"&D5)))) -> 1 | F7: =VLOOKUP(E7, Questions!A:E, 2, FALSE) -> Question | G7: =VLOOKUP(E7, Questions!A:E, 3, FALSE) -> Answer | M7: 7 | N7: =RAND() -> 0.8129866
M8: 8 | N8: =RAND() -> 0.54522209
M9: 9 | N9: =RAND() -> 0.82587093
M10: 10 | N10: =RAND() -> 0.50709731
M11: 11 | N11: =RAND() -> 0.84831724
M12: 12 | N12: =RAND() -> 0.34934721
M13: 13 | N13: =RAND() -> 0.15341334
M14: 14 | N14: =RAND() -> 0.78253226
M15: 15 | N15: =RAND() -> 0.2333306
M16: 16 | N16: =RAND() -> 0.70895737
M17: 17 | N17: =RAND() -> 0.52980405
M18: 18 | N18: =RAND() -> 0.39973214
M19: 19 | N19: =RAND() -> 0.54009453
... M516: 516 | N516: =RAND() -> 0.14833547

Sheet For board 6
A1: 1 | B1: ='Quiz 6'!F2 -> 0
A2: 2 | B2: ='Quiz 6'!F3 -> What are the conditions for the production of ethanol from ethene?
A3: 3 | B3: ='Quiz 6'!F4 -> Calculate the yield of a given reaction which results in Xg of product having started with Yg of reactant
A4: 4 | B4: ='Quiz 6'!F5 -> What is the relative molecular mass of a molecule?
A5: 5 | B5: ='Quiz 6'!F6 -> What is the relative atomic mass of an atom?
A6: 6 | B6: ='Quiz 6'!F7 -> Question

Sheet Infinity
E1: Question from bank | F1: Question | G1: Answer | M1: 1 | N1: =RAND() -> 0.98157814
B2: 1 | C2: 1 | D2: 212 | E2: =INDEX((INDIRECT("m"&C2)):(INDIRECT("m"&D2)),RANK((INDIRECT("n"&C2)),(INDIRECT("n"&C2)):(INDIRECT("n"&D2)))) -> 4 | F2: =VLOOKUP(E2, Questions!A:E, 2, FALSE) -> What is the relative atomic mass of X? | G2: =VLOOKUP(E2, Questions!A:E, 3, FALSE) -> Relative mass of X taken from the A Level data sheet | M2: 2 | N2: =RAND() -> 0.53044239
B3: 2 | E3: =INDEX((INDIRECT("m"&C2)):(INDIRECT("m"&D2)),RANK((INDIRECT("n"&C2+1)),(INDIRECT("n"&C2)):(INDIRECT("n"&D2)))) -> 85 | F3: =VLOOKUP(E3, Questions!A:E, 2, FALSE) -> What is a halogenoalkane? | G3: =VLOOKUP(E3, Questions!A:E, 3, FALSE) -> A saturated hydrocarbon with a halogen bonded to at least one carbon | M3: 3 | N3: =RAND() -> 0.17280242
B4: 3 | E4: =INDEX((INDIRECT("m"&C2)):(INDIRECT("m"&D2)),RANK((INDIRECT("n"&C2+2)),(INDIRECT("n"&C2)):(INDIRECT("n"&D2)))) -> 161 | F4: =VLOOKUP(E4, Questions!A:E, 2, FALSE) -> What is the advantage of dehydrating alcohols to form alkenes? | G4: =VLOOKUP(E4, Questions!A:E, 3, FALSE) -> Alkenes can be used as chemical feedstock without using crude oil | M4: 4 | N4: =RAND() -> 0.016657022
B5: 4 | E5: =INDEX((INDIRECT("m"&C2)):(INDIRECT("m"&D2)),RANK((INDIRECT("n"&C2+3)),(INDIRECT("n"&C2)):(INDIRECT("n"&D2)))) -> 208 | F5: =VLOOKUP(E5, Questions!A:E, 2, FALSE) -> Under which conditions are hydroxynitriles formed? | G5: =VLOOKUP(E5, Questions!A:E, 3, FALSE) -> Addition of KCN followed by dilute acid to a carbonyl | M5: 5 | N5: =RAND() -> 0.91528001
B6: 5 | E6: =INDEX((INDIRECT("m"&C2)):(INDIRECT("m"&D2)),RANK((INDIRECT("n"&C2+4)),(INDIRECT("n"&C2)):(INDIRECT("n"&D2)))) -> 14 | F6: =VLOOKUP(E6, Questions!A:E, 2, FALSE) -> A given reaction has a yield of Y% and Xg of product formed. What mass of reactant was used? | G6: =VLOOKUP(E6, Questions!A:E, 3, FALSE) -> Divide X by Y and use molar ratio to calculate mass of reactant | M6: 6 | N6: =RAND() -> 0.66582238
B7: 6 | E7: =INDEX((INDIRECT("m"&C2)):(INDIRECT("m"&D2)),RANK((INDIRECT("n"&C2+5)),(INDIRECT("n"&C2)):(INDIRECT("n"&D2)))) -> 62 | F7: =VLOOKUP(E7, Questions!A:E, 2, FALSE) -> What is catalytic cracking used for? | G7: =VLOOKUP(E7, Questions!A:E, 3, FALSE) -> Production of motor fuels and aromatic hydrocarbons | M7: 7 | N7: =RAND() -> 0.088217813
B8: 7 | E8: =INDEX((INDIRECT("m"&C2)):(INDIRECT("m"&D2)),RANK((INDIRECT("n"&C2+6)),(INDIRECT("n"&C2)):(INDIRECT("n"&D2)))) -> 184 | F8: =VLOOKUP(E8, Questions!A:E, 2, FALSE) -> Which regions in an IR spectra will show peaks for a given organic compound | G8: =VLOOKUP(E8, Questions!A:E, 3, FALSE) -> 0 | M8: 8 | N8: =RAND() -> 0.23220603
B9: 8 | E9: =INDEX((INDIRECT("m"&C2)):(INDIRECT("m"&D2)),RANK((INDIRECT("n"&C2+7)),(INDIRECT("n"&C2)):(INDIRECT("n"&D2)))) -> 147 | F9: =VLOOKUP(E9, Questions!A:E, 2, FALSE) -> Explain the physical properties of alcohols | G9: =VLOOKUP(E9, Questions!A:E, 3, FALSE) -> OH group leads to hydrogen bonding | M9: 9 | N9: =RAND() -> 0.26713674
B10: 9 | E10: =INDEX((INDIRECT("m"&C2)):(INDIRECT("m"&D2)),RANK((INDIRECT("n"&C2+8)),(INDIRECT("n"&C2)):(INDIRECT("n"&D2)))) -> 138 | F10: =VLOOKUP(E10, Questions!A:E, 2, FALSE) -> Draw the monomer for a given section of polymer | G10: =VLOOKUP(E10, Questions!A:E, 3, FALSE) -> 0 | M10: 10 | N10: =RAND() -> 0.25631523
B11: 10 | E11: =INDEX((INDIRECT("m"&C2)):(INDIRECT("m"&D2)),RANK((INDIRECT("n"&C2+9)),(INDIRECT("n"&C2)):(INDIRECT("n"&D2)))) -> 140 | F11: =VLOOKUP(E11, Questions!A:E, 2, FALSE) -> Why are addition polymers unreactive? | G11: =VLOOKUP(E11, Questions!A:E, 3, FALSE) -> Strong C-C and C-H bonds | M11: 11 | N11: =RAND() -> 0.41940968
B12: 11 | E12: =INDEX((INDIRECT("m"&C2)):(INDIRECT("m"&D2)),RANK((INDIRECT("n"&C2+10)),(INDIRECT("n"&C2)):(INDIRECT("n"&D2)))) -> 105 | F12: =VLOOKUP(E12, Questions!A:E, 2, FALSE) -> Where is ozone found and why is it beneficial? | G12: =VLOOKUP(E12, Questions!A:E, 3, FALSE) -> Upper atmosphere, absorbs harmful UV radiation | M12: 12 | N12: =RAND() -> 0.76246189
B13: 12 | E13: =INDEX((INDIRECT("m"&C2)):(INDIRECT("m"&D2)),RANK((INDIRECT("n"&C2+11)),(INDIRECT("n"&C2)):(INDIRECT("n"&D2)))) -> 42 | F13: =VLOOKUP(E13, Questions!A:E, 2, FALSE) -> What is a molecular formula? | G13: =VLOOKUP(E13, Questions!A:E, 3, FALSE) -> The formula that shows the actual number of atoms of each element in a molecule | M13: 13 | N13: =RAND() -> 0.38748375
B14: 13 | E14: =INDEX((INDIRECT("m"&C2)):(INDIRECT("m"&D2)),RANK((INDIRECT("n"&C2+12)),(INDIRECT("n"&C2)):(INDIRECT("n"&D2)))) -> 110 | F14: =VLOOKUP(E14, Questions!A:E, 2, FALSE) -> Why are CFCs now banned for use? | G14: =VLOOKUP(E14, Questions!A:E, 3, FALSE) -> Due to research results from different groups within the scientific community | M14: 14 | N14: =RAND() -> 0.83672661
B15: 14 | E15: =INDEX((INDIRECT("m"&C2)):(INDIRECT("m"&D2)),RANK((INDIRECT("n"&C2+13)),(INDIRECT("n"&C2)):(INDIRECT("n"&D2)))) -> 31 | F15: =VLOOKUP(E15, Questions!A:E, 2, FALSE) -> A substance is composed of Xg of A, Yg of B and Zg of C. Establish its empirical formula. | G15: =VLOOKUP(E15, Questions!A:E, 3, FALSE) -> Divide masses by Ar, convert to whole number ratio, apply to formula | M15: 15 | N15: =RAND() -> 0.45496209
B16: 15 | E16: =INDEX((INDIRECT("m"&C2)):(INDIRECT("m"&D2)),RANK((INDIRECT("n"&C2+14)),(INDIRECT("n"&C2)):(INDIRECT("n"&D2)))) -> 99 | F16: =VLOOKUP(E16, Questions!A:E, 2, FALSE) -> What is the trend in C-X reaction rates | G16: =VLOOKUP(E16, Questions!A:E, 3, FALSE) -> Increases down the group from C-F to C-I | M16: 16 | N16: =RAND() -> 0.11643071
B17: 16 | E17: =INDEX((INDIRECT("m"&C2)):(INDIRECT("m"&D2)),RANK((INDIRECT("n"&C2+15)),(INDIRECT("n"&C2)):(INDIRECT("n"&D2)))) -> 175 | F17: =VLOOKUP(E17, Questions!A:E, 2, FALSE) -> What is observed when potassium dichromate is added to a primary or secondary alcohol? | G17: =VLOOKUP(E17, Questions!A:E, 3, FALSE) -> Turns orange --> green | M17: 17 | N17: =RAND() -> 0.85308839
B18: 17 | E18: =INDEX((INDIRECT("m"&C2)):(INDIRECT("m"&D2)),RANK((INDIRECT("n"&C2+16)),(INDIRECT("n"&C2)):(INDIRECT("n"&D2)))) -> 26 | F18: =VLOOKUP(E18, Questions!A:E, 2, FALSE) -> Rearrange the ideal gas equation for P, V, n, R and T | G18: =VLOOKUP(E18, Questions!A:E, 3, FALSE) -> 0 | M18: 18 | N18: =RAND() -> 0.87716887
B19: 18 | E19: =INDEX((INDIRECT("m"&C2)):(INDIRECT("m"&D2)),RANK((INDIRECT("n"&C2+17)),(INDIRECT("n"&C2)):(INDIRECT("n"&D2)))) -> 18 | F19: =VLOOKUP(E19, Questions!A:E, 2, FALSE) -> How many moles are in Abm³ of Cmoldm⁻³ solution? | G19: =VLOOKUP(E19, Questions!A:E, 3, FALSE) -> After proper conversions, AxC | M19: 19 | N19: =RAND() -> 0.30990035
B20: 19 | E20: =INDEX((INDIRECT("m"&C2)):(INDIRECT("m"&D2)),RANK((INDIRECT("n"&C2+18)),(INDIRECT("n"&C2)):(INDIRECT("n"&D2)))) -> 124 | F20: =VLOOKUP(E20, Questions!A:E, 2, FALSE) -> Draw a reaction mechanism for a given alkene with Br₂ | G20: =VLOOKUP(E20, Questions!A:E, 3, FALSE) -> 0 | M20: 20 | N20: =RAND() -> 0.93002449
B21: 20 | E21: =INDEX((INDIRECT("m"&C2)):(INDIRECT("m"&D2)),RANK((INDIRECT("n"&C2+19)),(INDIRECT("n"&C2)):(INDIRECT("n"&D2)))) -> 13 | F21: =VLOOKUP(E21, Questions!A:E, 2, FALSE) -> Calculate the yield of a given reaction which results in Xg of product having started with Yg of reactant | G21: =VLOOKUP(E21, Questions!A:E, 3, FALSE) -> Molar ratio from balanced equation, actual mass/expected mass x 100 | M21: 21 | N21: =RAND() -> 0.60617079
B22: 21 | E22: =INDEX((INDIRECT("m"&C2)):(INDIRECT("m"&D2)),RANK((INDIRECT("n"&C2+20)),(INDIRECT("n"&C2)):(INDIRECT("n"&D2)))) -> 70 | F22: =VLOOKUP(E22, Questions!A:E, 2, FALSE) -> How is sulphur dioxide released from combustion engines? | G22: =VLOOKUP(E22, Questions!A:E, 3, FALSE) -> Through the combustion of hydrocarbons containing sulphur impurities | M22: 22 | N22: =RAND() -> 0.19310418
B23: 22 | E23: =INDEX((INDIRECT("m"&C2)):(INDIRECT("m"&D2)),RANK((INDIRECT("n"&C2+21)),(INDIRECT("n"&C2)):(INDIRECT("n"&D2)))) -> 157 | F23: =VLOOKUP(E23, Questions!A:E, 2, FALSE) -> What is a dehydration of an alcohol reaction? | G23: =VLOOKUP(E23, Questions!A:E, 3, FALSE) -> One where water is eliminated from an alcohol | M23: 23 | N23: =RAND() -> 0.79733971
B24: 23 | E24: =INDEX((INDIRECT("m"&C2)):(INDIRECT("m"&D2)),RANK((INDIRECT("n"&C2+22)),(INDIRECT("n"&C2)):(INDIRECT("n"&D2)))) -> 34 | F24: =VLOOKUP(E24, Questions!A:E, 2, FALSE) -> What is an ionic equation? | G24: =VLOOKUP(E24, Questions!A:E, 3, FALSE) -> A simplified equation showing the ions present in a reaction | M24: 24 | N24: =RAND() -> 0.71981389
B25: 24 | E25: =INDEX((INDIRECT("m"&C2)):(INDIRECT("m"&D2)),RANK((INDIRECT("n"&C2+23)),(INDIRECT("n"&C2)):(INDIRECT("n"&D2)))) -> 51 | F25: =VLOOKUP(E25, Questions!A:E, 2, FALSE) -> What is isomerism? | G25: =VLOOKUP(E25, Questions!A:E, 3, FALSE) -> When molecules have the same atoms but they are arranged differently in space | M25: 25 | N25: =RAND() -> 0.78259795
B26: 25 | E26: =INDEX((INDIRECT("m"&C2)):(INDIRECT("m"&D2)),RANK((INDIRECT("n"&C2+24)),(INDIRECT("n"&C2)):(INDIRECT("n"&D2)))) -> 39 | F26: =VLOOKUP(E26, Questions!A:E, 2, FALSE) -> How is atom economy calculated? | G26: =VLOOKUP(E26, Questions!A:E, 3, FALSE) -> (Mr or mass of desired product/Mr or mass of all products) x 100 | M26: 26 | N26: =RAND() -> 0.68604471
M27: 27 | N27: =RAND() -> 0.85813803
M28: 28 | N28: =RAND() -> 0.51080851
M29: 29 | N29: =RAND() -> 0.16589264
M30: 30 | N30: =RAND() -> 0.8214059
M31: 31 | N31: =RAND() -> 0.2901956
M32: 32 | N32: =RAND() -> 0.19136311
M33: 33 | N33: =RAND() -> 0.1165122
M34: 34 | N34: =RAND() -> 0.70381255
M35: 35 | N35: =RAND() -> 0.06222586
M36: 36 | N36: =RAND() -> 0.087962156
M37: 37 | N37: =RAND() -> 0.86114867
M38: 38 | N38: =RAND() -> 0.030984308
... M516: 516 | N516: =RAND() -> 0.91545923

Sheet Infinity for board
A1: 1 | B1: =Infinity!F2 -> What is the relative atomic mass of X?
A2: 2 | B2: =Infinity!F3 -> What is a halogenoalkane?
A3: 3 | B3: =Infinity!F4 -> What is the advantage of dehydrating alcohols to form alkenes?
A4: 4 | B4: =Infinity!F5 -> Under which conditions are hydroxynitriles formed?
A5: 5 | B5: =Infinity!F6 -> A given reaction has a yield of Y% and Xg of product formed. What mass of reactant was used?
A6: 6 | B6: =Infinity!F7 -> What is catalytic cracking used for?
A7: 7 | B7: =Infinity!F8 -> Which regions in an IR spectra will show peaks for a given organic compound
A8: 8 | B8: =Infinity!F9 -> Explain the physical properties of alcohols
A9: 9 | B9: =Infinity!F10 -> Draw the monomer for a given section of polymer
A10: 10 | B10: =Infinity!F11 -> Why are addition polymers unreactive?

Sheet Infinity card sort
B2: =Infinity!F2 -> What is the relative atomic mass of X? | D2: =Infinity!G2 -> Relative mass of X taken from the A Level data sheet | F2: =Infinity!F2 -> What is the relative atomic mass of X? | H2: =Infinity!G2 -> Relative mass of X taken from the A Level data sheet
B4: =Infinity!F3 -> What is a halogenoalkane? | D4: =Infinity!G3 -> A saturated hydrocarbon with a halogen bonded to at least one carbon | F4: =Infinity!F3 -> What is a halogenoalkane? | H4: =Infinity!G3 -> A saturated hydrocarbon with a halogen bonded to at least one carbon
B6: =Infinity!F4 -> What is the advantage of dehydrating alcohols to form alkenes? | D6: =Infinity!G4 -> Alkenes can be used as chemical feedstock without using crude oil | F6: =Infinity!F4 -> What is the advantage of dehydrating alcohols to form alkenes? | H6: =Infinity!G4 -> Alkenes can be used as chemical feedstock without using crude oil
B8: =Infinity!F5 -> Under which conditions are hydroxynitriles formed? | D8: =Infinity!G5 -> Addition of KCN followed by dilute acid to a carbonyl | F8: =Infinity!F5 -> Under which conditions are hydroxynitriles formed? | H8: =Infinity!G5 -> Addition of KCN followed by dilute acid to a carbonyl
B10: =Infinity!F6 -> A given reaction has a yield of Y% and Xg of product formed. What mass of reactant was used? | D10: =Infinity!G6 -> Divide X by Y and use molar ratio to calculate mass of reactant | F10: =Infinity!F6 -> A given reaction has a yield of Y% and Xg of product formed. What mass of reactant was used? | H10: =Infinity!G6 -> Divide X by Y and use molar ratio to calculate mass of reactant
B12: =Infinity!F7 -> What is catalytic cracking used for? | D12: =Infinity!G7 -> Production of motor fuels and aromatic hydrocarbons | F12: =Infinity!F7 -> What is catalytic cracking used for? | H12: =Infinity!G7 -> Production of motor fuels and aromatic hydrocarbons

Sheet Infinity do-now
B2: Do Now
I3: Number of questions: | L3: 5
B5: =IF(OR(L3=1, L3=2, L3=3, L3=4, L3=5), 1, "") -> 1 | C5: =IF(OR(L3=1, L3=2, L3=3, L3=4, L3=5), Infinity!F2, "") -> What is the relative atomic mass of X?
B6: =IF(OR(L3=2, L3=3, L3=4, L3=5), 2, "") -> 2 | C6: =IF(OR(L3=2, L3=3, L3=4, L3=5), Infinity!F3, "") -> What is a halogenoalkane?
B7: =IF(OR(L3=3, L3=4, L3=5), 3, "") -> 3 | C7: =IF(OR(L3=3, L3=4, L3=5), Infinity!F4, "") -> What is the advantage of dehydrating alcohols to form alkenes?
B8: =IF(OR(L3=4, L3=5), 4, "") -> 4 | C8: =IF(OR(L3=4, L3=5), Infinity!F5, "") -> Under which conditions are hydroxynitriles formed?
B9: =IF(OR(L3=5), 5, "") -> 5 | C9: =IF(OR(L3=5), Infinity!F6, "") -> A given reaction has a yield of Y% and Xg of product formed. What mass of reactant was used?
